BEGIN:VCALENDAR
VERSION:2.0
PRODID:-//日本プロフェッショナルエンジニア協会 - ECPv6.10.0//NONSGML v1.0//EN
CALSCALE:GREGORIAN
METHOD:PUBLISH
X-WR-CALNAME:日本プロフェッショナルエンジニア協会
X-ORIGINAL-URL:https://jspe.org
X-WR-CALDESC:日本プロフェッショナルエンジニア協会 のイベント
REFRESH-INTERVAL;VALUE=DURATION:PT1H
X-Robots-Tag:noindex
X-PUBLISHED-TTL:PT1H
BEGIN:VTIMEZONE
TZID:Asia/Tokyo
BEGIN:STANDARD
TZOFFSETFROM:+0900
TZOFFSETTO:+0900
TZNAME:JST
DTSTART:20180101T000000
END:STANDARD
END:VTIMEZONE
BEGIN:VEVENT
DTSTART;VALUE=DATE:20180701
DTEND;VALUE=DATE:20180702
DTSTAMP:20260420T073903
CREATED:20180418T001430Z
LAST-MODIFIED:20180418T001430Z
UID:9077-1530403200-1530489599@jspe.org
SUMMARY:JSPEマガジンVol.42（2018 July）/JSPE Magazine
DESCRIPTION:JSPEマガジン夏号発行
URL:https://jspe.org/event/jspe-magazine-july-2/
CATEGORIES:マガジン案内
ATTACH;FMTTYPE=image/jpeg:https://jspe.org/wp-content/uploads/2018/02/book-icon.jpeg
END:VEVENT
BEGIN:VEVENT
DTSTART;VALUE=DATE:20180701
DTEND;VALUE=DATE:20180702
DTSTAMP:20260420T073903
CREATED:20180418T001430Z
LAST-MODIFIED:20180418T001430Z
UID:9718-1530403200-1530489599@jspe.org
SUMMARY:JSPEマガジンVol.42（2018 July）/JSPE Magazine
DESCRIPTION:JSPEマガジン夏号発行
URL:https://jspe.org/event/jspe-magazine-july-3/
CATEGORIES:マガジン案内
ATTACH;FMTTYPE=image/jpeg:https://jspe.org/wp-content/uploads/2018/02/book-icon.jpeg
END:VEVENT
END:VCALENDAR