BEGIN:VCALENDAR
VERSION:2.0
PRODID:-//日本プロフェッショナルエンジニア協会 - ECPv6.10.0//NONSGML v1.0//EN
CALSCALE:GREGORIAN
METHOD:PUBLISH
X-WR-CALNAME:日本プロフェッショナルエンジニア協会
X-ORIGINAL-URL:https://jspe.org
X-WR-CALDESC:日本プロフェッショナルエンジニア協会 のイベント
REFRESH-INTERVAL;VALUE=DURATION:PT1H
X-Robots-Tag:noindex
X-PUBLISHED-TTL:PT1H
BEGIN:VTIMEZONE
TZID:Asia/Tokyo
BEGIN:STANDARD
TZOFFSETFROM:+0900
TZOFFSETTO:+0900
TZNAME:JST
DTSTART:20170101T000000
END:STANDARD
END:VTIMEZONE
BEGIN:VEVENT
DTSTART;TZID=Asia/Tokyo:20171115T190000
DTEND;TZID=Asia/Tokyo:20171115T210000
DTSTAMP:20260421T020421
CREATED:20180302T143437Z
LAST-MODIFIED:20180302T143437Z
UID:9696-1510772400-1510779600@jspe.org
SUMMARY:2017年度 第3回エンジニアズサロン/FY2017 3rd Engineer\'s Salon
DESCRIPTION:２０１７年度第３回エンジニアズサロン（ES）開催のお知らせ \n今回は、「技術倫理」をテーマに、JSPE監事の植村氏から話題提供いただき、ディスカッションしたいと思います。 \n【第３回エンジニアズサロン】\n日時：２０１７年１１月１５日（水）　１９：００－２１：００\n場所：溜池山王事務所\n講師：植村大輔JSPE監事 PE（Civil\, Oregon) \nテーマ： 「失敗に学ぶ技術倫理」”Engineering Ethics Learned from Mistakes\”\n概要：技術上の失敗は起こり得るものです。その時大切なのはいかに誠実にかつ倫理観を持って対処するかです。実際に経験した失敗とその対応の実例を技術倫理の視点から紹介します。 \n会費：1\,000円（懇親会費込）\n定員：10名（講師・事務局含む）。定員に達しましたら、下記申込サイトの受付を終了します。キャンセル待ちご希望の方は教育部会までご連絡ください。 \nES実行メンバー　山浦良久、森山亮、渋谷高広
URL:https://jspe.org/event/%e7%ac%ac3%e5%9b%9e2017%e5%b9%b4%e5%ba%a6%e3%82%a8%e3%83%b3%e3%82%b8%e3%83%8b%e3%82%a2%e3%82%ba%e3%82%b5%e3%83%ad%e3%83%b3%ef%bc%88es%ef%bc%89%e9%96%8b%e5%82%ac%e3%81%ae%e3%81%8a%e7%9f%a5%e3%82%89-3/
CATEGORIES:サロン案内
ATTACH;FMTTYPE=image/jpeg:https://jspe.org/wp-content/uploads/2018/02/salon-icon_02.jpeg
END:VEVENT
BEGIN:VEVENT
DTSTART;TZID=Asia/Tokyo:20171115T190000
DTEND;TZID=Asia/Tokyo:20171115T210000
DTSTAMP:20260421T020421
CREATED:20180302T143437Z
LAST-MODIFIED:20180302T143437Z
UID:1111-1510772400-1510779600@jspe.org
SUMMARY:2017年度 第3回エンジニアズサロン/FY2017 3rd Engineer's Salon
DESCRIPTION:２０１７年度第３回エンジニアズサロン（ES）開催のお知らせ \n今回は、「技術倫理」をテーマに、JSPE監事の植村氏から話題提供いただき、ディスカッションしたいと思います。 \n【第３回エンジニアズサロン】\n日時：２０１７年１１月１５日（水）　１９：００－２１：００\n場所：溜池山王事務所\n講師：植村大輔JSPE監事 PE（Civil\, Oregon) \nテーマ： 「失敗に学ぶ技術倫理」”Engineering Ethics Learned from Mistakes”\n概要：技術上の失敗は起こり得るものです。その時大切なのはいかに誠実にかつ倫理観を持って対処するかです。実際に経験した失敗とその対応の実例を技術倫理の視点から紹介します。 \n会費：1\,000円（懇親会費込）\n定員：10名（講師・事務局含む）。定員に達しましたら、下記申込サイトの受付を終了します。キャンセル待ちご希望の方は教育部会までご連絡ください。 \nES実行メンバー　山浦良久、森山亮、渋谷高広
URL:https://jspe.org/event/%e7%ac%ac3%e5%9b%9e2017%e5%b9%b4%e5%ba%a6%e3%82%a8%e3%83%b3%e3%82%b8%e3%83%8b%e3%82%a2%e3%82%ba%e3%82%b5%e3%83%ad%e3%83%b3%ef%bc%88es%ef%bc%89%e9%96%8b%e5%82%ac%e3%81%ae%e3%81%8a%e7%9f%a5%e3%82%89/
CATEGORIES:サロン案内
ATTACH;FMTTYPE=image/jpeg:https://jspe.org/wp-content/uploads/2018/02/salon-icon_02.jpeg
END:VEVENT
BEGIN:VEVENT
DTSTART;TZID=Asia/Tokyo:20171115T190000
DTEND;TZID=Asia/Tokyo:20171115T210000
DTSTAMP:20260421T020421
CREATED:20180302T143437Z
LAST-MODIFIED:20180302T143437Z
UID:9055-1510772400-1510779600@jspe.org
SUMMARY:2017年度 第3回エンジニアズサロン/FY2017 3rd Engineer\'s Salon
DESCRIPTION:２０１７年度第３回エンジニアズサロン（ES）開催のお知らせ \n今回は、「技術倫理」をテーマに、JSPE監事の植村氏から話題提供いただき、ディスカッションしたいと思います。 \n【第３回エンジニアズサロン】\n日時：２０１７年１１月１５日（水）　１９：００－２１：００\n場所：溜池山王事務所\n講師：植村大輔JSPE監事 PE（Civil\, Oregon) \nテーマ： 「失敗に学ぶ技術倫理」”Engineering Ethics Learned from Mistakes\”\n概要：技術上の失敗は起こり得るものです。その時大切なのはいかに誠実にかつ倫理観を持って対処するかです。実際に経験した失敗とその対応の実例を技術倫理の視点から紹介します。 \n会費：1\,000円（懇親会費込）\n定員：10名（講師・事務局含む）。定員に達しましたら、下記申込サイトの受付を終了します。キャンセル待ちご希望の方は教育部会までご連絡ください。 \nES実行メンバー　山浦良久、森山亮、渋谷高広
URL:https://jspe.org/event/%e7%ac%ac3%e5%9b%9e2017%e5%b9%b4%e5%ba%a6%e3%82%a8%e3%83%b3%e3%82%b8%e3%83%8b%e3%82%a2%e3%82%ba%e3%82%b5%e3%83%ad%e3%83%b3%ef%bc%88es%ef%bc%89%e9%96%8b%e5%82%ac%e3%81%ae%e3%81%8a%e7%9f%a5%e3%82%89-2/
CATEGORIES:サロン案内
ATTACH;FMTTYPE=image/jpeg:https://jspe.org/wp-content/uploads/2018/02/salon-icon_02.jpeg
END:VEVENT
END:VCALENDAR