BEGIN:VCALENDAR
VERSION:2.0
PRODID:-//日本プロフェッショナルエンジニア協会 - ECPv6.10.0//NONSGML v1.0//EN
CALSCALE:GREGORIAN
METHOD:PUBLISH
X-ORIGINAL-URL:https://jspe.org
X-WR-CALDESC:日本プロフェッショナルエンジニア協会 のイベント
REFRESH-INTERVAL;VALUE=DURATION:PT1H
X-Robots-Tag:noindex
X-PUBLISHED-TTL:PT1H
BEGIN:VTIMEZONE
TZID:Asia/Tokyo
BEGIN:STANDARD
TZOFFSETFROM:+0900
TZOFFSETTO:+0900
TZNAME:JST
DTSTART:20170101T000000
END:STANDARD
END:VTIMEZONE
BEGIN:VEVENT
DTSTART;TZID=Asia/Tokyo:20170415T140000
DTEND;TZID=Asia/Tokyo:20170415T163000
DTSTAMP:20260421T202345
CREATED:20180302T134846Z
LAST-MODIFIED:20180302T134846Z
UID:9683-1492264800-1492273800@jspe.org
SUMMARY:第292回関東技術CPDセミナー/292nd Kanto Technical CPD Seminar
DESCRIPTION:CPD2017関東　（第292回CPDセミナー） \n日時：2017年4月15日(土)　14:00-16:00\n場所：東京飯田橋・NSRIホール\n講師：産業技術総合研究所　環境管理研究部門　加茂徹殿 \n講演タイトル：低炭素で資源循環を目指した社会に必要とされるエンジニアリング技術\nEngineering technology required for the society aiming to low-carbon and resource circulation \n講演概要　：\n地球温暖化は21世紀最大の課題であり、大幅な温暖化ガスの排出削減は先進工業国に課せられた義務である。また地殻に含まれる採掘可能な天然資源のなかで、いくつかの元素について有史以来人類は既に半分以上を採掘しており、資源の循環利用は持続可能な社会を維持するために不可欠な技術である。本講演では、金属やプラスチック等のリサイクルの現状と課題を説明すると共に、必要とされるエンジニアリング技術を解説する。 \n参加費：JSPE会員 　　1\,500円　　JSPE非会員 2\,500円\n2.0hのPDHを発行します。\n終了後ワンコイン（500円）懇親会を予定しております。 \n主催：JSPE教育部会　森山/山浦
URL:https://jspe.org/event/%e7%ac%ac292%e5%9b%9ecpd%e3%82%bb%e3%83%9f%e3%83%8a%e3%83%bc-kanto-technical-cpd-seminar-3/
CATEGORIES:技術セミナー案内
ATTACH;FMTTYPE=image/jpeg:https://jspe.org/wp-content/uploads/2018/02/presentation-icon_02-1.jpeg
END:VEVENT
BEGIN:VEVENT
DTSTART;TZID=Asia/Tokyo:20170415T140000
DTEND;TZID=Asia/Tokyo:20170415T163000
DTSTAMP:20260421T202345
CREATED:20180302T134846Z
LAST-MODIFIED:20180302T134846Z
UID:1095-1492264800-1492273800@jspe.org
SUMMARY:第292回関東技術CPDセミナー/292nd Kanto Technical CPD Seminar
DESCRIPTION:CPD2017関東　（第292回CPDセミナー） \n日時：2017年4月15日(土)　14:00-16:00\n場所：東京飯田橋・NSRIホール\n講師：産業技術総合研究所　環境管理研究部門　加茂徹殿 \n講演タイトル：低炭素で資源循環を目指した社会に必要とされるエンジニアリング技術\nEngineering technology required for the society aiming to low-carbon and resource circulation \n講演概要　：\n地球温暖化は21世紀最大の課題であり、大幅な温暖化ガスの排出削減は先進工業国に課せられた義務である。また地殻に含まれる採掘可能な天然資源のなかで、いくつかの元素について有史以来人類は既に半分以上を採掘しており、資源の循環利用は持続可能な社会を維持するために不可欠な技術である。本講演では、金属やプラスチック等のリサイクルの現状と課題を説明すると共に、必要とされるエンジニアリング技術を解説する。 \n参加費：JSPE会員 　　1\,500円　　JSPE非会員 2\,500円\n2.0hのPDHを発行します。\n終了後ワンコイン（500円）懇親会を予定しております。 \n主催：JSPE教育部会　森山/山浦
URL:https://jspe.org/event/%e7%ac%ac292%e5%9b%9ecpd%e3%82%bb%e3%83%9f%e3%83%8a%e3%83%bc-kanto-technical-cpd-seminar/
CATEGORIES:技術セミナー案内
ATTACH;FMTTYPE=image/jpeg:https://jspe.org/wp-content/uploads/2018/02/presentation-icon_02-1.jpeg
END:VEVENT
BEGIN:VEVENT
DTSTART;TZID=Asia/Tokyo:20170415T140000
DTEND;TZID=Asia/Tokyo:20170415T163000
DTSTAMP:20260421T202345
CREATED:20180302T134846Z
LAST-MODIFIED:20180302T134846Z
UID:9042-1492264800-1492273800@jspe.org
SUMMARY:第292回関東技術CPDセミナー/292nd Kanto Technical CPD Seminar
DESCRIPTION:CPD2017関東　（第292回CPDセミナー） \n日時：2017年4月15日(土)　14:00-16:00\n場所：東京飯田橋・NSRIホール\n講師：産業技術総合研究所　環境管理研究部門　加茂徹殿 \n講演タイトル：低炭素で資源循環を目指した社会に必要とされるエンジニアリング技術\nEngineering technology required for the society aiming to low-carbon and resource circulation \n講演概要　：\n地球温暖化は21世紀最大の課題であり、大幅な温暖化ガスの排出削減は先進工業国に課せられた義務である。また地殻に含まれる採掘可能な天然資源のなかで、いくつかの元素について有史以来人類は既に半分以上を採掘しており、資源の循環利用は持続可能な社会を維持するために不可欠な技術である。本講演では、金属やプラスチック等のリサイクルの現状と課題を説明すると共に、必要とされるエンジニアリング技術を解説する。 \n参加費：JSPE会員 　　1\,500円　　JSPE非会員 2\,500円\n2.0hのPDHを発行します。\n終了後ワンコイン（500円）懇親会を予定しております。 \n主催：JSPE教育部会　森山/山浦
URL:https://jspe.org/event/%e7%ac%ac292%e5%9b%9ecpd%e3%82%bb%e3%83%9f%e3%83%8a%e3%83%bc-kanto-technical-cpd-seminar-2/
CATEGORIES:技術セミナー案内
ATTACH;FMTTYPE=image/jpeg:https://jspe.org/wp-content/uploads/2018/02/presentation-icon_02-1.jpeg
END:VEVENT
END:VCALENDAR