BEGIN:VCALENDAR
VERSION:2.0
PRODID:-//日本プロフェッショナルエンジニア協会 - ECPv6.10.0//NONSGML v1.0//EN
CALSCALE:GREGORIAN
METHOD:PUBLISH
X-ORIGINAL-URL:https://jspe.org
X-WR-CALDESC:日本プロフェッショナルエンジニア協会 のイベント
REFRESH-INTERVAL;VALUE=DURATION:PT1H
X-Robots-Tag:noindex
X-PUBLISHED-TTL:PT1H
BEGIN:VTIMEZONE
TZID:Asia/Tokyo
BEGIN:STANDARD
TZOFFSETFROM:+0900
TZOFFSETTO:+0900
TZNAME:JST
DTSTART:20180101T000000
END:STANDARD
END:VTIMEZONE
BEGIN:VEVENT
DTSTART;TZID=Asia/Tokyo:20180901T130000
DTEND;TZID=Asia/Tokyo:20180901T161500
DTSTAMP:20260419T221101
CREATED:20180413T071750Z
LAST-MODIFIED:20180413T071750Z
UID:9713-1535806800-1535818500@jspe.org
SUMMARY:第305回東京-神戸鬼金CPDセミナー/305th Onikin CPD Seminar
DESCRIPTION:JSPEは米国プロジェクトマネジメント協会の登録教育事業者として、プロジェクトマネジメントに関するセミナー(鬼金セミナー)を開催しています。 \n本セミナーではA Guide to the Project Management Body of Knowledge(PMBOK® Guide) 6th Editionを教科書として、講師(PE and PMP®)が経験したプロジェクトマネジメント経験を講義します。セミナー参加者には、Professional Engineer(PE)に必要な継続学習時間(PDH)やProject Management Professional(PMP)®に必要な継続学習時間(PDU)が発行されます。 \n鬼金CPDセミナー\n開催日程：2018/9/1 (土)　13:00-16:15\n参加費　：3\,000円(JSPE会員)、5\,000円(非会員)\n講師　　：JSPE理事 森山亮(PE(化学)\, PMP®)\n副講師　：JSPE理事 阪井敦(PE(化学)\, PMP®)\nCPD&PDU：3PDHおよび3PDU or 3 Contact hoursを提供\n提供PDU : 3.0 Hr (Leadership 1.0 Hr\, Technical 1.0 Hr\, Strategic 1.0 Hr) \n講演題名：プロジェクトの成否を分けるスコープ定義\n英語タイトル：Scope definition leading to successful project\n講演概要：本セミナーではPMBOK® Guide 6th Editionにおけるプロジェクトスコープマネジメントを解説します。仮想プロジェクトにおけるグループディスカッションを通じて、プロジェクトスコープマネジメントに対する理解を深めることにより、今後受講者が実際に関わるプロジェクトにおけるスコープマネジメントの活用方法を身に着けることを目的とします。 \n本会場（東京）：フォーラムミカサエコ\nサテライト会場（神戸）：兵庫県民会館（元町） \n申し込み受付は上部にあります。（締め切りは8/29） \nセミナー終了後にはワンコイン懇親会も予定しております。 \n\n\n  \nJSPE　企画部会　阪井敦\n教育部会　森山亮
URL:https://jspe.org/event/tokyo-305th-onikin-cpd-seminar-3/
LOCATION:200903_Board_Minutes
CATEGORIES:鬼金案内
ATTACH;FMTTYPE=image/jpeg:https://jspe.org/wp-content/uploads/2018/02/presentation-icon_02.jpeg
END:VEVENT
BEGIN:VEVENT
DTSTART;TZID=Asia/Tokyo:20180901T130000
DTEND;TZID=Asia/Tokyo:20180901T161500
DTSTAMP:20260419T221101
CREATED:20180413T071750Z
LAST-MODIFIED:20180413T071750Z
UID:9072-1535806800-1535818500@jspe.org
SUMMARY:第305回東京-神戸鬼金CPDセミナー/305th Onikin CPD Seminar
DESCRIPTION:JSPEは米国プロジェクトマネジメント協会の登録教育事業者として、プロジェクトマネジメントに関するセミナー(鬼金セミナー)を開催しています。 \n本セミナーではA Guide to the Project Management Body of Knowledge(PMBOK® Guide) 6th Editionを教科書として、講師(PE and PMP®)が経験したプロジェクトマネジメント経験を講義します。セミナー参加者には、Professional Engineer(PE)に必要な継続学習時間(PDH)やProject Management Professional(PMP)®に必要な継続学習時間(PDU)が発行されます。 \n鬼金CPDセミナー\n開催日程：2018/9/1 (土)　13:00-16:15\n参加費　：3\,000円(JSPE会員)、5\,000円(非会員)\n講師　　：JSPE理事 森山亮(PE(化学)\, PMP®)\n副講師　：JSPE理事 阪井敦(PE(化学)\, PMP®)\nCPD&PDU：3PDHおよび3PDU or 3 Contact hoursを提供\n提供PDU : 3.0 Hr (Leadership 1.0 Hr\, Technical 1.0 Hr\, Strategic 1.0 Hr) \n講演題名：プロジェクトの成否を分けるスコープ定義\n英語タイトル：Scope definition leading to successful project\n講演概要：本セミナーではPMBOK® Guide 6th Editionにおけるプロジェクトスコープマネジメントを解説します。仮想プロジェクトにおけるグループディスカッションを通じて、プロジェクトスコープマネジメントに対する理解を深めることにより、今後受講者が実際に関わるプロジェクトにおけるスコープマネジメントの活用方法を身に着けることを目的とします。 \n本会場（東京）：フォーラムミカサエコ\nサテライト会場（神戸）：兵庫県民会館（元町） \n申し込み受付は上部にあります。（締め切りは8/29） \nセミナー終了後にはワンコイン懇親会も予定しております。 \n\n\n  \nJSPE　企画部会　阪井敦\n教育部会　森山亮
URL:https://jspe.org/event/tokyo-305th-onikin-cpd-seminar-2/
LOCATION:200903_Board_Minutes
CATEGORIES:鬼金案内
ATTACH;FMTTYPE=image/jpeg:https://jspe.org/wp-content/uploads/2018/02/presentation-icon_02.jpeg
END:VEVENT
BEGIN:VEVENT
DTSTART;TZID=Asia/Tokyo:20180904T190000
DTEND;TZID=Asia/Tokyo:20180904T210000
DTSTAMP:20260419T221101
CREATED:20180413T072137Z
LAST-MODIFIED:20180413T072137Z
UID:9073-1536087600-1536094800@jspe.org
SUMMARY:2018年度 第3回エンジニアズサロン/FY2018 3rd Engineer’s Salon
DESCRIPTION:2018年度第3回エンジニアズサロン（ES）開催のお知らせ \n今回は、「engineering leadership」をテーマに、ワシントン大学Prof. Steven Collinsから話題提供いただき、ディスカッションしたいと思います。（ほぼ全編英語でのサロンになる予定です） \n【第３回エンジニアズサロン】\n 日時：2018年9月4日（火）19:00-21:00\n PDH：1PDHを供給\n場所：会議室MIXER\n講師：Steven W. Collins\, Ph.D.\, P.E.（Associate Professor\, Mechanical Engineering\, University of Washington Bothell） \nテーマ：Engineering Leadership\n概要： \n会費：1\,000円（懇親会費込）\n定員：15名 \n申し込みは上部にあります。（締め切りは9/3） \nES実行メンバー　森山亮
URL:https://jspe.org/event/fy2018-3rd-engineers-salon-2/
CATEGORIES:サロン案内
ATTACH;FMTTYPE=image/jpeg:https://jspe.org/wp-content/uploads/2018/02/salon-icon.jpeg
END:VEVENT
BEGIN:VEVENT
DTSTART;TZID=Asia/Tokyo:20180904T190000
DTEND;TZID=Asia/Tokyo:20180904T210000
DTSTAMP:20260419T221101
CREATED:20180413T072137Z
LAST-MODIFIED:20180413T072137Z
UID:1745-1536087600-1536094800@jspe.org
SUMMARY:2018年度 第3回エンジニアズサロン/FY2018 3rd Engineer’s Salon
DESCRIPTION:2018年度第3回エンジニアズサロン（ES）開催のお知らせ \n今回は、「engineering leadership」をテーマに、ワシントン大学Prof. Steven Collinsから話題提供いただき、ディスカッションしたいと思います。（ほぼ全編英語でのサロンになる予定です） \n【第３回エンジニアズサロン】\n 日時：2018年9月4日（火）19:00-21:00\n PDH：1PDHを供給\n場所：会議室MIXER\n講師：Steven W. Collins\, Ph.D.\, P.E.（Associate Professor\, Mechanical Engineering\, University of Washington Bothell） \nテーマ：Engineering Leadership\n概要： \n会費：1\,000円（懇親会費込）\n定員：15名 \n申し込みは上部にあります。（締め切りは9/3） \nES実行メンバー　森山亮
URL:https://jspe.org/event/fy2018-3rd-engineers-salon/
CATEGORIES:サロン案内
ATTACH;FMTTYPE=image/jpeg:https://jspe.org/wp-content/uploads/2018/02/salon-icon.jpeg
END:VEVENT
BEGIN:VEVENT
DTSTART;TZID=Asia/Tokyo:20180904T190000
DTEND;TZID=Asia/Tokyo:20180904T210000
DTSTAMP:20260419T221101
CREATED:20180413T072137Z
LAST-MODIFIED:20180413T072137Z
UID:9714-1536087600-1536094800@jspe.org
SUMMARY:2018年度 第3回エンジニアズサロン/FY2018 3rd Engineer’s Salon
DESCRIPTION:2018年度第3回エンジニアズサロン（ES）開催のお知らせ \n今回は、「engineering leadership」をテーマに、ワシントン大学Prof. Steven Collinsから話題提供いただき、ディスカッションしたいと思います。（ほぼ全編英語でのサロンになる予定です） \n【第３回エンジニアズサロン】\n 日時：2018年9月4日（火）19:00-21:00\n PDH：1PDHを供給\n場所：会議室MIXER\n講師：Steven W. Collins\, Ph.D.\, P.E.（Associate Professor\, Mechanical Engineering\, University of Washington Bothell） \nテーマ：Engineering Leadership\n概要： \n会費：1\,000円（懇親会費込）\n定員：15名 \n申し込みは上部にあります。（締め切りは9/3） \nES実行メンバー　森山亮
URL:https://jspe.org/event/fy2018-3rd-engineers-salon-3/
CATEGORIES:サロン案内
ATTACH;FMTTYPE=image/jpeg:https://jspe.org/wp-content/uploads/2018/02/salon-icon.jpeg
END:VEVENT
BEGIN:VEVENT
DTSTART;TZID=Asia/Tokyo:20180915T093000
DTEND;TZID=Asia/Tokyo:20180915T120000
DTSTAMP:20260419T221101
CREATED:20180413T072451Z
LAST-MODIFIED:20180413T072451Z
UID:9716-1537003800-1537012800@jspe.org
SUMMARY:9月度理事会/Board of Directors September
DESCRIPTION:理事会聴講希望者は事務局（webmaster@jspe.org）までご連絡ください。
URL:https://jspe.org/event/board-of-directors-september-3/
CATEGORIES:理事会案内
ATTACH;FMTTYPE=image/jpeg:https://jspe.org/wp-content/uploads/2018/02/salon-icon_02.jpeg
END:VEVENT
BEGIN:VEVENT
DTSTART;TZID=Asia/Tokyo:20180915T093000
DTEND;TZID=Asia/Tokyo:20180915T120000
DTSTAMP:20260419T221101
CREATED:20180413T072451Z
LAST-MODIFIED:20180413T072451Z
UID:9075-1537003800-1537012800@jspe.org
SUMMARY:9月度理事会/Board of Directors September
DESCRIPTION:理事会聴講希望者は事務局（webmaster@jspe.org）までご連絡ください。
URL:https://jspe.org/event/board-of-directors-september-2/
CATEGORIES:理事会案内
ATTACH;FMTTYPE=image/jpeg:https://jspe.org/wp-content/uploads/2018/02/salon-icon_02.jpeg
END:VEVENT
BEGIN:VEVENT
DTSTART;TZID=Asia/Tokyo:20180922T103000
DTEND;TZID=Asia/Tokyo:20180922T163000
DTSTAMP:20260419T221101
CREATED:20180413T072658Z
LAST-MODIFIED:20180413T072658Z
UID:9717-1537612200-1537633800@jspe.org
SUMMARY:第306回JSPE Day 2018 「エネルギー」/ JSPE Day 2018
DESCRIPTION:JSPE Day 2018 「エネルギー」参加者募集 \nJSPEでは、PE会員とPEN/FE/AF/ST会員および非会員とが、関東や関西といった地域の壁を越えてより幅広く技術交流を行えることを目的とした終日セミナー 「JSPE Day」 を実施しております。全セッション終了後は、東京会場、神戸会場それぞれでささやかな懇親会も行います。これからPEを取得しようとする方にとっては、先輩PEと親しく知り合えるチャンスでもあります。午前1.5h、午後3.5h、合計で最大5.0hのPDHを発行します。（会員限定でセミナーのWeb視聴も予定しております） \n皆様、どうぞ奮ってご参加下さい！ \n日時　　：2018年9月22日(土)　10:30-16:30　（16:30からワンコイン懇親会を行います）\n場所　　：東京会場：NSRIホール(飯田橋)\n神戸会場：兵庫県民会館（元町）\n申し込み締め切り：9月20日（木）（Web視聴ご希望の方は手続き上お早目（9/15まで）にお申込みください） \nプログラム（予定）\n10:00-10:30　受付 \n第一部\n10:30-10:45　開会挨拶、PE登録者の読み上げなど \n10:45-11:15　講演1\n西久保理事@神戸会場：NSPEラスベガス総会の参加報告/Report of NSPE annual meeting (PECON18 in Las Vegas) \n11:15-12:00　講演2\n植村監事@東京会場：風力発電の最新技術/Latest Trends of Wind Power Technology \n第二部\n13:00-14:30　基調講演\n東京電力ホールディングス株式会社　経営技術戦略研究所　チーフエコノミスト\n戸田直樹氏@東京会場：電気事業とインフラ産業の将来像(Utility3.0)/Utility of the Future in Japan(Utility 3.0） \n14:30-14:45　休憩 \n14:45-15:30　講演3\n泉山会員@東京会場：ライフサイクルの視点から視た建物のエネルギー消費～省エネチューニングとメンテナンス～/Building Energy Consumption examined from Life Cycle Point of View Energy Saving Tuning and Maintenance ~ \n15:30-16:15　講演4\n山崎会員@東京会場：100年後の電気とそれを支える人材とは？/What would like to leave to electrical engineers of next century? \n16:15-16:30　閉会挨拶、その他（事務局連絡など） \nCPD　 ：5PDH（午前1.5PDH、午後3.5PDH）提供\n参加費 ：2\,500円（JSPE会員）、3\,500円（非会員）\nセミナー終了後にはワンコイン（500円）懇親会も予定しております。 \nJSPE企画部会、会員部会、教育部会
URL:https://jspe.org/event/jspe-day-2018-3/
CATEGORIES:技術セミナー案内
ATTACH;FMTTYPE=image/jpeg:https://jspe.org/wp-content/uploads/2018/02/presentation-icon_03.jpeg
END:VEVENT
BEGIN:VEVENT
DTSTART;TZID=Asia/Tokyo:20180922T103000
DTEND;TZID=Asia/Tokyo:20180922T163000
DTSTAMP:20260419T221101
CREATED:20180413T072658Z
LAST-MODIFIED:20180413T072658Z
UID:9076-1537612200-1537633800@jspe.org
SUMMARY:第306回JSPE Day 2018 「エネルギー」/ JSPE Day 2018
DESCRIPTION:JSPE Day 2018 「エネルギー」参加者募集 \nJSPEでは、PE会員とPEN/FE/AF/ST会員および非会員とが、関東や関西といった地域の壁を越えてより幅広く技術交流を行えることを目的とした終日セミナー 「JSPE Day」 を実施しております。全セッション終了後は、東京会場、神戸会場それぞれでささやかな懇親会も行います。これからPEを取得しようとする方にとっては、先輩PEと親しく知り合えるチャンスでもあります。午前1.5h、午後3.5h、合計で最大5.0hのPDHを発行します。（会員限定でセミナーのWeb視聴も予定しております） \n皆様、どうぞ奮ってご参加下さい！ \n日時　　：2018年9月22日(土)　10:30-16:30　（16:30からワンコイン懇親会を行います）\n場所　　：東京会場：NSRIホール(飯田橋)\n神戸会場：兵庫県民会館（元町）\n申し込み締め切り：9月20日（木）（Web視聴ご希望の方は手続き上お早目（9/15まで）にお申込みください） \nプログラム（予定）\n10:00-10:30　受付 \n第一部\n10:30-10:45　開会挨拶、PE登録者の読み上げなど \n10:45-11:15　講演1\n西久保理事@神戸会場：NSPEラスベガス総会の参加報告/Report of NSPE annual meeting (PECON18 in Las Vegas) \n11:15-12:00　講演2\n植村監事@東京会場：風力発電の最新技術/Latest Trends of Wind Power Technology \n第二部\n13:00-14:30　基調講演\n東京電力ホールディングス株式会社　経営技術戦略研究所　チーフエコノミスト\n戸田直樹氏@東京会場：電気事業とインフラ産業の将来像(Utility3.0)/Utility of the Future in Japan(Utility 3.0） \n14:30-14:45　休憩 \n14:45-15:30　講演3\n泉山会員@東京会場：ライフサイクルの視点から視た建物のエネルギー消費～省エネチューニングとメンテナンス～/Building Energy Consumption examined from Life Cycle Point of View Energy Saving Tuning and Maintenance ~ \n15:30-16:15　講演4\n山崎会員@東京会場：100年後の電気とそれを支える人材とは？/What would like to leave to electrical engineers of next century? \n16:15-16:30　閉会挨拶、その他（事務局連絡など） \nCPD　 ：5PDH（午前1.5PDH、午後3.5PDH）提供\n参加費 ：2\,500円（JSPE会員）、3\,500円（非会員）\nセミナー終了後にはワンコイン（500円）懇親会も予定しております。 \nJSPE企画部会、会員部会、教育部会
URL:https://jspe.org/event/jspe-day-2018-2/
CATEGORIES:技術セミナー案内
ATTACH;FMTTYPE=image/jpeg:https://jspe.org/wp-content/uploads/2018/02/presentation-icon_03.jpeg
END:VEVENT
END:VCALENDAR