BEGIN:VCALENDAR
VERSION:2.0
PRODID:-//日本プロフェッショナルエンジニア協会 - ECPv6.10.0//NONSGML v1.0//EN
CALSCALE:GREGORIAN
METHOD:PUBLISH
X-ORIGINAL-URL:https://jspe.org
X-WR-CALDESC:日本プロフェッショナルエンジニア協会 のイベント
REFRESH-INTERVAL;VALUE=DURATION:PT1H
X-Robots-Tag:noindex
X-PUBLISHED-TTL:PT1H
BEGIN:VTIMEZONE
TZID:Asia/Tokyo
BEGIN:STANDARD
TZOFFSETFROM:+0900
TZOFFSETTO:+0900
TZNAME:JST
DTSTART:20180101T000000
END:STANDARD
END:VTIMEZONE
BEGIN:VEVENT
DTSTART;TZID=Asia/Tokyo:20180314T190000
DTEND;TZID=Asia/Tokyo:20180314T210000
DTSTAMP:20260420T150311
CREATED:20171207T135200Z
LAST-MODIFIED:20171207T135200Z
UID:442-1521054000-1521061200@jspe.org
SUMMARY:2017年度 第4回エンジニアズサロン/FY2017 4th Engineer's Salon
DESCRIPTION:２０１７年度第4回エンジニアズサロン（ES）開催のお知らせ \n今回は、「Engineering Ethics」をテーマに、渋谷高広会員から話題提供いただき、ディスカッションしたいと思います。\nなお、1月に予定していたエンジニアズサロンについては現在延期中ですが、開催の目途が立ち次第、第5回エンジニアズサロンとしてご案内差し上げます。 \n【第４回エンジニアズサロン】\n日時：２０１８年３月１４日（水）　１９：００－２１：００\nPDH：1PDHを供給\n場所：溜池山王事務所\n講師：渋谷高広　PE会員、エントラストエンジニアリング渋谷技術士事務所 \nテーマ：情報改ざんを伴う不正事例とEngineering Ethics\nEngineering Ethics for On-Site Technical Information\n概要：材料強度や計測結果を意図的に改ざんするという不正事例が後を絶たない。このような事例が起こる背景、およびこれを防ぐためにどうすればよいのか、またこのような事例に対するEngineering Ethicsの役割についてオープンなディスカッションを行う。 \n会費：1\,000円（懇親会費込）\n定員：10名。定員に達しましたら、下記申込サイトの受付を終了します。キャンセル待ちご希望の方は教育部会までご連絡ください。\nお申し込みは以下のURLからお願いします。\n申込サイト入口 \nご不明点がございましたらJSPE教育部会の森山、山浦（education.2007（あっと）jspe.org）までご連絡ください。\n注）お手数をおかけしますが、迷惑メール防止のため上記メールアドレス（あっと）を@（半角）に書き換えてご送信ください。 \nES実行メンバー　山浦良久、森山亮、渋谷高広
URL:https://jspe.org/event/%e7%ac%ac5%e5%9b%9e%e3%82%a8%e3%83%b3%e3%82%b8%e3%83%8b%e3%82%a2%e3%82%ba%e3%82%b5%e3%83%ad%e3%83%b3/
CATEGORIES:サロン案内
ATTACH;FMTTYPE=image/jpeg:https://jspe.org/wp-content/uploads/2018/02/salon-icon_02.jpeg
END:VEVENT
BEGIN:VEVENT
DTSTART;TZID=Asia/Tokyo:20180314T190000
DTEND;TZID=Asia/Tokyo:20180314T210000
DTSTAMP:20260420T150311
CREATED:20171207T135200Z
LAST-MODIFIED:20171207T135200Z
UID:9669-1521054000-1521061200@jspe.org
SUMMARY:2017年度 第4回エンジニアズサロン/FY2017 4th Engineer\'s Salon
DESCRIPTION:２０１７年度第4回エンジニアズサロン（ES）開催のお知らせ \n今回は、「Engineering Ethics」をテーマに、渋谷高広会員から話題提供いただき、ディスカッションしたいと思います。\nなお、1月に予定していたエンジニアズサロンについては現在延期中ですが、開催の目途が立ち次第、第5回エンジニアズサロンとしてご案内差し上げます。 \n【第４回エンジニアズサロン】\n日時：２０１８年３月１４日（水）　１９：００－２１：００\nPDH：1PDHを供給\n場所：溜池山王事務所\n講師：渋谷高広　PE会員、エントラストエンジニアリング渋谷技術士事務所 \nテーマ：情報改ざんを伴う不正事例とEngineering Ethics\nEngineering Ethics for On-Site Technical Information\n概要：材料強度や計測結果を意図的に改ざんするという不正事例が後を絶たない。このような事例が起こる背景、およびこれを防ぐためにどうすればよいのか、またこのような事例に対するEngineering Ethicsの役割についてオープンなディスカッションを行う。 \n会費：1\,000円（懇親会費込）\n定員：10名。定員に達しましたら、下記申込サイトの受付を終了します。キャンセル待ちご希望の方は教育部会までご連絡ください。\nお申し込みは以下のURLからお願いします。\n申込サイト入口 \nご不明点がございましたらJSPE教育部会の森山、山浦（education.2007（あっと）jspe.org）までご連絡ください。\n注）お手数をおかけしますが、迷惑メール防止のため上記メールアドレス（あっと）を@（半角）に書き換えてご送信ください。 \nES実行メンバー　山浦良久、森山亮、渋谷高広
URL:https://jspe.org/event/%e7%ac%ac5%e5%9b%9e%e3%82%a8%e3%83%b3%e3%82%b8%e3%83%8b%e3%82%a2%e3%82%ba%e3%82%b5%e3%83%ad%e3%83%b3-4/
CATEGORIES:サロン案内
ATTACH;FMTTYPE=image/jpeg:https://jspe.org/wp-content/uploads/2018/02/salon-icon_02.jpeg
END:VEVENT
BEGIN:VEVENT
DTSTART;TZID=Asia/Tokyo:20180314T190000
DTEND;TZID=Asia/Tokyo:20180314T210000
DTSTAMP:20260420T150311
CREATED:20171207T135200Z
LAST-MODIFIED:20171207T135200Z
UID:9030-1521054000-1521061200@jspe.org
SUMMARY:2017年度 第4回エンジニアズサロン/FY2017 4th Engineer\'s Salon
DESCRIPTION:２０１７年度第4回エンジニアズサロン（ES）開催のお知らせ \n今回は、「Engineering Ethics」をテーマに、渋谷高広会員から話題提供いただき、ディスカッションしたいと思います。\nなお、1月に予定していたエンジニアズサロンについては現在延期中ですが、開催の目途が立ち次第、第5回エンジニアズサロンとしてご案内差し上げます。 \n【第４回エンジニアズサロン】\n日時：２０１８年３月１４日（水）　１９：００－２１：００\nPDH：1PDHを供給\n場所：溜池山王事務所\n講師：渋谷高広　PE会員、エントラストエンジニアリング渋谷技術士事務所 \nテーマ：情報改ざんを伴う不正事例とEngineering Ethics\nEngineering Ethics for On-Site Technical Information\n概要：材料強度や計測結果を意図的に改ざんするという不正事例が後を絶たない。このような事例が起こる背景、およびこれを防ぐためにどうすればよいのか、またこのような事例に対するEngineering Ethicsの役割についてオープンなディスカッションを行う。 \n会費：1\,000円（懇親会費込）\n定員：10名。定員に達しましたら、下記申込サイトの受付を終了します。キャンセル待ちご希望の方は教育部会までご連絡ください。\nお申し込みは以下のURLからお願いします。\n申込サイト入口 \nご不明点がございましたらJSPE教育部会の森山、山浦（education.2007（あっと）jspe.org）までご連絡ください。\n注）お手数をおかけしますが、迷惑メール防止のため上記メールアドレス（あっと）を@（半角）に書き換えてご送信ください。 \nES実行メンバー　山浦良久、森山亮、渋谷高広
URL:https://jspe.org/event/%e7%ac%ac5%e5%9b%9e%e3%82%a8%e3%83%b3%e3%82%b8%e3%83%8b%e3%82%a2%e3%82%ba%e3%82%b5%e3%83%ad%e3%83%b3-3/
CATEGORIES:サロン案内
ATTACH;FMTTYPE=image/jpeg:https://jspe.org/wp-content/uploads/2018/02/salon-icon_02.jpeg
END:VEVENT
BEGIN:VEVENT
DTSTART;TZID=Asia/Tokyo:20180317T093000
DTEND;TZID=Asia/Tokyo:20180317T120000
DTSTAMP:20260420T150311
CREATED:20171207T135237Z
LAST-MODIFIED:20171207T135237Z
UID:9670-1521279000-1521288000@jspe.org
SUMMARY:3月度理事会/Board of Directors March
DESCRIPTION:理事会聴講希望者は事務局（webmaster@jspe.org）までご連絡ください。
URL:https://jspe.org/event/3%e6%9c%88%e5%ba%a6%e7%90%86%e4%ba%8b%e4%bc%9a-3/
CATEGORIES:理事会案内
ATTACH;FMTTYPE=image/jpeg:https://jspe.org/wp-content/uploads/2018/02/salon-icon.jpeg
END:VEVENT
BEGIN:VEVENT
DTSTART;TZID=Asia/Tokyo:20180317T093000
DTEND;TZID=Asia/Tokyo:20180317T120000
DTSTAMP:20260420T150311
CREATED:20171207T135237Z
LAST-MODIFIED:20171207T135237Z
UID:9031-1521279000-1521288000@jspe.org
SUMMARY:3月度理事会/Board of Directors March
DESCRIPTION:理事会聴講希望者は事務局（webmaster@jspe.org）までご連絡ください。
URL:https://jspe.org/event/3%e6%9c%88%e5%ba%a6%e7%90%86%e4%ba%8b%e4%bc%9a-2/
CATEGORIES:理事会案内
ATTACH;FMTTYPE=image/jpeg:https://jspe.org/wp-content/uploads/2018/02/salon-icon.jpeg
END:VEVENT
BEGIN:VEVENT
DTSTART;TZID=Asia/Tokyo:20180317T093000
DTEND;TZID=Asia/Tokyo:20180317T120000
DTSTAMP:20260420T150311
CREATED:20171207T135237Z
LAST-MODIFIED:20171207T135237Z
UID:444-1521279000-1521288000@jspe.org
SUMMARY:3月度理事会/Board of Directors March
DESCRIPTION:理事会聴講希望者は事務局（webmaster@jspe.org）までご連絡ください。
URL:https://jspe.org/event/3%e6%9c%88%e5%ba%a6%e7%90%86%e4%ba%8b%e4%bc%9a/
CATEGORIES:理事会案内
ATTACH;FMTTYPE=image/jpeg:https://jspe.org/wp-content/uploads/2018/02/salon-icon.jpeg
END:VEVENT
BEGIN:VEVENT
DTSTART;TZID=Asia/Tokyo:20180324T140000
DTEND;TZID=Asia/Tokyo:20180324T170000
DTSTAMP:20260420T150311
CREATED:20180215T132746Z
LAST-MODIFIED:20180215T132746Z
UID:774-1521900000-1521910800@jspe.org
SUMMARY:PE/FE受験・登録相談会＠東京/PE/FE Examination/Registration Seminar
DESCRIPTION:【開催案内】\n米国PE (Professional Engineer) ライセンスの取得、および日本でのPE/FE ( The Fundamentals of Engineering) 受験についての相談会を下記のとおり開催いたします。皆様のご参加をお待ちしております。なお、関西（神戸）ともSkypeでつなぎ、同時開催をいたします。 \n日時：2018年3月24日（土）　14時～17時\n場所：東京会場：NSRIホール（東京・飯田橋）\n東京都千代田区飯田橋2-7-5　明治安田生命飯田橋ビル2階\n関西会場：兵庫県民会館（神戸）11階　1101会議室 \n神戸市中央区下山手通4丁目16-3\n内容：\n・米国PE/FE制度概要と最近の動向\n・PE受験・登録体験のご紹介\n・シラバス英訳支援活動の紹介\n・PE/FE受験・登録に関する意見交換会 \n注）この相談会はPE/FE受験・登録の手続きとその背景を説明することを主目的としています。\n試験に向けた学習方法のご相談にお答えすることはできますが、試験内容についての解説等はございませんのでご了承下さい。 \n講師：PEライセンス保持者　複数名\n参加費：JSPE会員 無料、非会員 2\,000円 （会場でJSPE入会も受け付けます。入会お申し込みの方は参加無料） \nイベント後、更に参加者と講師の交流を深めるため、有志によるワンコイン懇親会も計画しております。ぜひこの機会に、先輩PEと交流し、業種を超えた人脈形成にお役立てください。\n参加お申込み、お問合せは3月20日までに以下のサイトからお願いいたします。\n（東京会場：定員30名、神戸会場：14名） \n参加申し込みサイト \n問合せ先/当日連絡先：education.2007（あっと）jspe.org　(担当：森山)\n注）お手数をおかけしますが、迷惑メール防止のため上記メールアドレス（あっと）を@（半角）に書き換えてご送信ください。
URL:https://jspe.org/event/pefe%e5%8f%97%e9%a8%93%e3%83%bb%e7%99%bb%e9%8c%b2%e7%9b%b8%e8%ab%87%e4%bc%9a%ef%bc%a0%e6%9d%b1%e4%ba%ac/
CATEGORIES:イベント案内
ATTACH;FMTTYPE=image/jpeg:https://jspe.org/wp-content/uploads/2018/02/presentation-icon_02-1.jpeg
END:VEVENT
BEGIN:VEVENT
DTSTART;TZID=Asia/Tokyo:20180324T140000
DTEND;TZID=Asia/Tokyo:20180324T170000
DTSTAMP:20260420T150311
CREATED:20180215T132746Z
LAST-MODIFIED:20180215T132746Z
UID:9672-1521900000-1521910800@jspe.org
SUMMARY:PE/FE受験・登録相談会＠東京/PE/FE Examination/Registration Seminar
DESCRIPTION:【開催案内】\n米国PE (Professional Engineer) ライセンスの取得、および日本でのPE/FE ( The Fundamentals of Engineering) 受験についての相談会を下記のとおり開催いたします。皆様のご参加をお待ちしております。なお、関西（神戸）ともSkypeでつなぎ、同時開催をいたします。 \n日時：2018年3月24日（土）　14時～17時\n場所：東京会場：NSRIホール（東京・飯田橋）\n東京都千代田区飯田橋2-7-5　明治安田生命飯田橋ビル2階\n関西会場：兵庫県民会館（神戸）11階　1101会議室 \n神戸市中央区下山手通4丁目16-3\n内容：\n・米国PE/FE制度概要と最近の動向\n・PE受験・登録体験のご紹介\n・シラバス英訳支援活動の紹介\n・PE/FE受験・登録に関する意見交換会 \n注）この相談会はPE/FE受験・登録の手続きとその背景を説明することを主目的としています。\n試験に向けた学習方法のご相談にお答えすることはできますが、試験内容についての解説等はございませんのでご了承下さい。 \n講師：PEライセンス保持者　複数名\n参加費：JSPE会員 無料、非会員 2\,000円 （会場でJSPE入会も受け付けます。入会お申し込みの方は参加無料） \nイベント後、更に参加者と講師の交流を深めるため、有志によるワンコイン懇親会も計画しております。ぜひこの機会に、先輩PEと交流し、業種を超えた人脈形成にお役立てください。\n参加お申込み、お問合せは3月20日までに以下のサイトからお願いいたします。\n（東京会場：定員30名、神戸会場：14名） \n参加申し込みサイト \n問合せ先/当日連絡先：education.2007（あっと）jspe.org　(担当：森山)\n注）お手数をおかけしますが、迷惑メール防止のため上記メールアドレス（あっと）を@（半角）に書き換えてご送信ください。
URL:https://jspe.org/event/pefe%e5%8f%97%e9%a8%93%e3%83%bb%e7%99%bb%e9%8c%b2%e7%9b%b8%e8%ab%87%e4%bc%9a%ef%bc%a0%e6%9d%b1%e4%ba%ac-3/
CATEGORIES:イベント案内
ATTACH;FMTTYPE=image/jpeg:https://jspe.org/wp-content/uploads/2018/02/presentation-icon_02-1.jpeg
END:VEVENT
BEGIN:VEVENT
DTSTART;TZID=Asia/Tokyo:20180324T140000
DTEND;TZID=Asia/Tokyo:20180324T170000
DTSTAMP:20260420T150311
CREATED:20180215T132746Z
LAST-MODIFIED:20180215T132746Z
UID:9033-1521900000-1521910800@jspe.org
SUMMARY:PE/FE受験・登録相談会＠東京/PE/FE Examination/Registration Seminar
DESCRIPTION:【開催案内】\n米国PE (Professional Engineer) ライセンスの取得、および日本でのPE/FE ( The Fundamentals of Engineering) 受験についての相談会を下記のとおり開催いたします。皆様のご参加をお待ちしております。なお、関西（神戸）ともSkypeでつなぎ、同時開催をいたします。 \n日時：2018年3月24日（土）　14時～17時\n場所：東京会場：NSRIホール（東京・飯田橋）\n東京都千代田区飯田橋2-7-5　明治安田生命飯田橋ビル2階\n関西会場：兵庫県民会館（神戸）11階　1101会議室 \n神戸市中央区下山手通4丁目16-3\n内容：\n・米国PE/FE制度概要と最近の動向\n・PE受験・登録体験のご紹介\n・シラバス英訳支援活動の紹介\n・PE/FE受験・登録に関する意見交換会 \n注）この相談会はPE/FE受験・登録の手続きとその背景を説明することを主目的としています。\n試験に向けた学習方法のご相談にお答えすることはできますが、試験内容についての解説等はございませんのでご了承下さい。 \n講師：PEライセンス保持者　複数名\n参加費：JSPE会員 無料、非会員 2\,000円 （会場でJSPE入会も受け付けます。入会お申し込みの方は参加無料） \nイベント後、更に参加者と講師の交流を深めるため、有志によるワンコイン懇親会も計画しております。ぜひこの機会に、先輩PEと交流し、業種を超えた人脈形成にお役立てください。\n参加お申込み、お問合せは3月20日までに以下のサイトからお願いいたします。\n（東京会場：定員30名、神戸会場：14名） \n参加申し込みサイト \n問合せ先/当日連絡先：education.2007（あっと）jspe.org　(担当：森山)\n注）お手数をおかけしますが、迷惑メール防止のため上記メールアドレス（あっと）を@（半角）に書き換えてご送信ください。
URL:https://jspe.org/event/pefe%e5%8f%97%e9%a8%93%e3%83%bb%e7%99%bb%e9%8c%b2%e7%9b%b8%e8%ab%87%e4%bc%9a%ef%bc%a0%e6%9d%b1%e4%ba%ac-2/
CATEGORIES:イベント案内
ATTACH;FMTTYPE=image/jpeg:https://jspe.org/wp-content/uploads/2018/02/presentation-icon_02-1.jpeg
END:VEVENT
BEGIN:VEVENT
DTSTART;TZID=Asia/Tokyo:20180324T140000
DTEND;TZID=Asia/Tokyo:20180324T170000
DTSTAMP:20260420T150311
CREATED:20180215T132824Z
LAST-MODIFIED:20180215T132824Z
UID:9673-1521900000-1521910800@jspe.org
SUMMARY:PE/FE受験・登録相談会＠神戸/PE/FE Examination/Registration Seminar
DESCRIPTION:【PE/FE受験・登録相談会のご案内】 \n米国PE (Professional Engineer) ライセンスの取得、および日本でのPE/FE ( The Fundamentals of　Engineering) 受験についての相談会を下記のとおり開催いたします。皆様のご参加をお待ちしております。なお、関西（神戸）ともSkypeでつなぎ、同時開催をいたします。 \n日時：2018年3月24日（土）　14時～17時\n場所：東京会場：NSRIホール（東京・飯田橋）\n東京都千代田区飯田橋2-7-5　明治安田生命飯田橋ビル2階\n関西会場：兵庫県民会館（神戸）11階　1101会議室 \n神戸市中央区下山手通4丁目16-3\n内容：\n・米国PE/FE制度概要と最近の動向\n・PE受験・登録体験のご紹介\n・シラバス英訳支援活動の紹介\n・PE/FE受験・登録に関する意見交換会 \n注）この相談会はPE/FE受験・登録の手続きとその背景を説明することを主目的としています。\n試験に向けた学習方法のご相談にお答えすることはできますが、試験内容についての解説等はございませんのでご了承下さい。 \n講師：PEライセンス保持者　複数名\n参加費：JSPE会員 無料、非会員 2\,000円 （会場でJSPE入会も受け付けます。入会お申し込みの方は参加無料） \nイベント後、更に参加者と講師の交流を深めるため、有志によるワンコイン懇親会も計画しております。ぜひこの機会に、先輩PEと交流し、業種を超えた人脈形成にお役立てください。\n参加お申込み、お問合せは3月20日までに以下のサイトからお願いいたします。\n（東京会場：定員30名、神戸会場：14名） \n参加申し込みサイト \n問合せ先/当日連絡先：education.2007（あっと）jspe.org　(担当：森山)\n注）お手数をおかけしますが、迷惑メール防止のため上記メールアドレス（あっと）を@（半角）に書き換えてご送信ください。
URL:https://jspe.org/event/pefe%e5%8f%97%e9%a8%93%e3%83%bb%e7%99%bb%e9%8c%b2%e7%9b%b8%e8%ab%87%e4%bc%9a%ef%bc%a0%e7%a5%9e%e6%88%b8-3/
CATEGORIES:イベント案内
ATTACH;FMTTYPE=image/jpeg:https://jspe.org/wp-content/uploads/2018/02/presentation-icon_02-1.jpeg
END:VEVENT
BEGIN:VEVENT
DTSTART;TZID=Asia/Tokyo:20180324T140000
DTEND;TZID=Asia/Tokyo:20180324T170000
DTSTAMP:20260420T150311
CREATED:20180215T132824Z
LAST-MODIFIED:20180215T132824Z
UID:9034-1521900000-1521910800@jspe.org
SUMMARY:PE/FE受験・登録相談会＠神戸/PE/FE Examination/Registration Seminar
DESCRIPTION:【PE/FE受験・登録相談会のご案内】 \n米国PE (Professional Engineer) ライセンスの取得、および日本でのPE/FE ( The Fundamentals of　Engineering) 受験についての相談会を下記のとおり開催いたします。皆様のご参加をお待ちしております。なお、関西（神戸）ともSkypeでつなぎ、同時開催をいたします。 \n日時：2018年3月24日（土）　14時～17時\n場所：東京会場：NSRIホール（東京・飯田橋）\n東京都千代田区飯田橋2-7-5　明治安田生命飯田橋ビル2階\n関西会場：兵庫県民会館（神戸）11階　1101会議室 \n神戸市中央区下山手通4丁目16-3\n内容：\n・米国PE/FE制度概要と最近の動向\n・PE受験・登録体験のご紹介\n・シラバス英訳支援活動の紹介\n・PE/FE受験・登録に関する意見交換会 \n注）この相談会はPE/FE受験・登録の手続きとその背景を説明することを主目的としています。\n試験に向けた学習方法のご相談にお答えすることはできますが、試験内容についての解説等はございませんのでご了承下さい。 \n講師：PEライセンス保持者　複数名\n参加費：JSPE会員 無料、非会員 2\,000円 （会場でJSPE入会も受け付けます。入会お申し込みの方は参加無料） \nイベント後、更に参加者と講師の交流を深めるため、有志によるワンコイン懇親会も計画しております。ぜひこの機会に、先輩PEと交流し、業種を超えた人脈形成にお役立てください。\n参加お申込み、お問合せは3月20日までに以下のサイトからお願いいたします。\n（東京会場：定員30名、神戸会場：14名） \n参加申し込みサイト \n問合せ先/当日連絡先：education.2007（あっと）jspe.org　(担当：森山)\n注）お手数をおかけしますが、迷惑メール防止のため上記メールアドレス（あっと）を@（半角）に書き換えてご送信ください。
URL:https://jspe.org/event/pefe%e5%8f%97%e9%a8%93%e3%83%bb%e7%99%bb%e9%8c%b2%e7%9b%b8%e8%ab%87%e4%bc%9a%ef%bc%a0%e7%a5%9e%e6%88%b8-2/
CATEGORIES:イベント案内
ATTACH;FMTTYPE=image/jpeg:https://jspe.org/wp-content/uploads/2018/02/presentation-icon_02-1.jpeg
END:VEVENT
BEGIN:VEVENT
DTSTART;TZID=Asia/Tokyo:20180324T140000
DTEND;TZID=Asia/Tokyo:20180324T170000
DTSTAMP:20260420T150311
CREATED:20180215T132824Z
LAST-MODIFIED:20180215T132824Z
UID:776-1521900000-1521910800@jspe.org
SUMMARY:PE/FE受験・登録相談会＠神戸/PE/FE Examination/Registration Seminar
DESCRIPTION:【PE/FE受験・登録相談会のご案内】 \n米国PE (Professional Engineer) ライセンスの取得、および日本でのPE/FE ( The Fundamentals of　Engineering) 受験についての相談会を下記のとおり開催いたします。皆様のご参加をお待ちしております。なお、関西（神戸）ともSkypeでつなぎ、同時開催をいたします。 \n日時：2018年3月24日（土）　14時～17時\n場所：東京会場：NSRIホール（東京・飯田橋）\n東京都千代田区飯田橋2-7-5　明治安田生命飯田橋ビル2階\n関西会場：兵庫県民会館（神戸）11階　1101会議室 \n神戸市中央区下山手通4丁目16-3\n内容：\n・米国PE/FE制度概要と最近の動向\n・PE受験・登録体験のご紹介\n・シラバス英訳支援活動の紹介\n・PE/FE受験・登録に関する意見交換会 \n注）この相談会はPE/FE受験・登録の手続きとその背景を説明することを主目的としています。\n試験に向けた学習方法のご相談にお答えすることはできますが、試験内容についての解説等はございませんのでご了承下さい。 \n講師：PEライセンス保持者　複数名\n参加費：JSPE会員 無料、非会員 2\,000円 （会場でJSPE入会も受け付けます。入会お申し込みの方は参加無料） \nイベント後、更に参加者と講師の交流を深めるため、有志によるワンコイン懇親会も計画しております。ぜひこの機会に、先輩PEと交流し、業種を超えた人脈形成にお役立てください。\n参加お申込み、お問合せは3月20日までに以下のサイトからお願いいたします。\n（東京会場：定員30名、神戸会場：14名） \n参加申し込みサイト \n問合せ先/当日連絡先：education.2007（あっと）jspe.org　(担当：森山)\n注）お手数をおかけしますが、迷惑メール防止のため上記メールアドレス（あっと）を@（半角）に書き換えてご送信ください。
URL:https://jspe.org/event/pefe%e5%8f%97%e9%a8%93%e3%83%bb%e7%99%bb%e9%8c%b2%e7%9b%b8%e8%ab%87%e4%bc%9a%ef%bc%a0%e7%a5%9e%e6%88%b8/
CATEGORIES:イベント案内
ATTACH;FMTTYPE=image/jpeg:https://jspe.org/wp-content/uploads/2018/02/presentation-icon_02-1.jpeg
END:VEVENT
END:VCALENDAR