BEGIN:VCALENDAR
VERSION:2.0
PRODID:-//日本プロフェッショナルエンジニア協会 - ECPv6.10.0//NONSGML v1.0//EN
CALSCALE:GREGORIAN
METHOD:PUBLISH
X-ORIGINAL-URL:https://jspe.org
X-WR-CALDESC:日本プロフェッショナルエンジニア協会 のイベント
REFRESH-INTERVAL;VALUE=DURATION:PT1H
X-Robots-Tag:noindex
X-PUBLISHED-TTL:PT1H
BEGIN:VTIMEZONE
TZID:Asia/Tokyo
BEGIN:STANDARD
TZOFFSETFROM:+0900
TZOFFSETTO:+0900
TZNAME:JST
DTSTART:20170101T000000
END:STANDARD
END:VTIMEZONE
BEGIN:VEVENT
DTSTART;TZID=Asia/Tokyo:20171202T130000
DTEND;TZID=Asia/Tokyo:20171202T161500
DTSTAMP:20260420T203148
CREATED:20180227T142642Z
LAST-MODIFIED:20180227T142642Z
UID:5528-1512219600-1512231300@jspe.org
SUMMARY:第298回（神戸・東京）鬼金CPDセミナー/298th Onikin CPD seminar
DESCRIPTION:JSPEは米国プロジェクトマネジメント協会の登録教育事業者として、プロジェクトマネジメントに関するセミナー(鬼金セミナー)を開催しています。 \n本セミナーでは(PMBOK® Guide) 5th Edition\, Project Management Institute\, Inc.\,2013.を教科書として、6セミナー×3h＝18hを予定しており、\nセミナー参加者には、Professional Engineer(PE)に必要な継続学習時間(PDH)やProject Management Professional(PMP)®必要な継続学習時間(PDU)が発行されます。 \n鬼金CPDセミナー（PMセミナーセッション2）\n開催日程：2017/12/2 (土)　13:00-16:15\n参加費　：3\,000円(JSPE会員)、5\,000円(非会員)\n講師　　：森口　智規　PE & PMP\, JSPE理事\nToshiki Moriguchi\, PE & PMP\n副講師　：森山　亮　Ph-D\, PE&PMP\, JSPE理事\nRyo Moriyama\, Ph-D\, PE&PMP\nCPD&PDU：3PDHおよび3PDU or 3 Contact hoursを提供\n提供PDU : 3.0 Hr (Leadership 1.0 Hr\, Technical 1.0 Hr\, Strategic 1.0 Hr) \n講演題名：プロジェクト成功のカギを握るStakeholder Management\n英語タイトル：The Stakeholder Management makes a project successful.\n講演概要：本セミナーではProjectにおけるStakeholder Managementの進め方をPMBOK® Guideに沿って、いくつかの演習を交えて紹介していきたいと思います。またその際、今年１０月に発行されたPMBOK® Guide 6th Editionの内容を5th Editionからの変更点を中心に解説したいと思います。 \n多数の会員、非会員の皆様のご参加をお待ちしております。 \n本会場（神戸）：兵庫県民会館（元町）\nサテライト会場（東京）：フォーラムミカサエコ（神田） \nセミナー終了後には\n関西イヤーエンドパーティー\n関東ではワンコイン懇親会\nも予定しております。
URL:https://jspe.org/event/%e7%ac%ac298%e5%9b%9e%ef%bc%88%e7%a5%9e%e6%88%b8%e3%83%bb%e6%9d%b1%e4%ba%ac%ef%bc%89%e9%ac%bc%e9%87%91cpd%e3%82%bb%e3%83%9f%e3%83%8a%e3%83%bc-298th-onikin-cpd-seminar/
LOCATION:200903_Board_Minutes
CATEGORIES:鬼金案内
ATTACH;FMTTYPE=image/jpeg:https://jspe.org/wp-content/uploads/2018/02/presentation-icon_02.jpeg
END:VEVENT
BEGIN:VEVENT
DTSTART;TZID=Asia/Tokyo:20171202T130000
DTEND;TZID=Asia/Tokyo:20171202T161500
DTSTAMP:20260420T203148
CREATED:20180227T142642Z
LAST-MODIFIED:20180227T142642Z
UID:9681-1512219600-1512231300@jspe.org
SUMMARY:第298回（神戸・東京）鬼金CPDセミナー/298th Onikin CPD seminar
DESCRIPTION:JSPEは米国プロジェクトマネジメント協会の登録教育事業者として、プロジェクトマネジメントに関するセミナー(鬼金セミナー)を開催しています。 \n本セミナーでは(PMBOK® Guide) 5th Edition\, Project Management Institute\, Inc.\,2013.を教科書として、6セミナー×3h＝18hを予定しており、\nセミナー参加者には、Professional Engineer(PE)に必要な継続学習時間(PDH)やProject Management Professional(PMP)®必要な継続学習時間(PDU)が発行されます。 \n鬼金CPDセミナー（PMセミナーセッション2）\n開催日程：2017/12/2 (土)　13:00-16:15\n参加費　：3\,000円(JSPE会員)、5\,000円(非会員)\n講師　　：森口　智規　PE & PMP\, JSPE理事\nToshiki Moriguchi\, PE & PMP\n副講師　：森山　亮　Ph-D\, PE&PMP\, JSPE理事\nRyo Moriyama\, Ph-D\, PE&PMP\nCPD&PDU：3PDHおよび3PDU or 3 Contact hoursを提供\n提供PDU : 3.0 Hr (Leadership 1.0 Hr\, Technical 1.0 Hr\, Strategic 1.0 Hr) \n講演題名：プロジェクト成功のカギを握るStakeholder Management\n英語タイトル：The Stakeholder Management makes a project successful.\n講演概要：本セミナーではProjectにおけるStakeholder Managementの進め方をPMBOK® Guideに沿って、いくつかの演習を交えて紹介していきたいと思います。またその際、今年１０月に発行されたPMBOK® Guide 6th Editionの内容を5th Editionからの変更点を中心に解説したいと思います。 \n多数の会員、非会員の皆様のご参加をお待ちしております。 \n本会場（神戸）：兵庫県民会館（元町）\nサテライト会場（東京）：フォーラムミカサエコ（神田） \nセミナー終了後には\n関西イヤーエンドパーティー\n関東ではワンコイン懇親会\nも予定しております。
URL:https://jspe.org/event/%e7%ac%ac298%e5%9b%9e%ef%bc%88%e7%a5%9e%e6%88%b8%e3%83%bb%e6%9d%b1%e4%ba%ac%ef%bc%89%e9%ac%bc%e9%87%91cpd%e3%82%bb%e3%83%9f%e3%83%8a%e3%83%bc-298th-onikin-cpd-seminar-3/
LOCATION:200903_Board_Minutes
CATEGORIES:鬼金案内
ATTACH;FMTTYPE=image/jpeg:https://jspe.org/wp-content/uploads/2018/02/presentation-icon_02.jpeg
END:VEVENT
BEGIN:VEVENT
DTSTART;TZID=Asia/Tokyo:20171202T130000
DTEND;TZID=Asia/Tokyo:20171202T161500
DTSTAMP:20260420T203148
CREATED:20180227T142642Z
LAST-MODIFIED:20180227T142642Z
UID:9039-1512219600-1512231300@jspe.org
SUMMARY:第298回（神戸・東京）鬼金CPDセミナー/298th Onikin CPD seminar
DESCRIPTION:JSPEは米国プロジェクトマネジメント協会の登録教育事業者として、プロジェクトマネジメントに関するセミナー(鬼金セミナー)を開催しています。 \n本セミナーでは(PMBOK® Guide) 5th Edition\, Project Management Institute\, Inc.\,2013.を教科書として、6セミナー×3h＝18hを予定しており、\nセミナー参加者には、Professional Engineer(PE)に必要な継続学習時間(PDH)やProject Management Professional(PMP)®必要な継続学習時間(PDU)が発行されます。 \n鬼金CPDセミナー（PMセミナーセッション2）\n開催日程：2017/12/2 (土)　13:00-16:15\n参加費　：3\,000円(JSPE会員)、5\,000円(非会員)\n講師　　：森口　智規　PE & PMP\, JSPE理事\nToshiki Moriguchi\, PE & PMP\n副講師　：森山　亮　Ph-D\, PE&PMP\, JSPE理事\nRyo Moriyama\, Ph-D\, PE&PMP\nCPD&PDU：3PDHおよび3PDU or 3 Contact hoursを提供\n提供PDU : 3.0 Hr (Leadership 1.0 Hr\, Technical 1.0 Hr\, Strategic 1.0 Hr) \n講演題名：プロジェクト成功のカギを握るStakeholder Management\n英語タイトル：The Stakeholder Management makes a project successful.\n講演概要：本セミナーではProjectにおけるStakeholder Managementの進め方をPMBOK® Guideに沿って、いくつかの演習を交えて紹介していきたいと思います。またその際、今年１０月に発行されたPMBOK® Guide 6th Editionの内容を5th Editionからの変更点を中心に解説したいと思います。 \n多数の会員、非会員の皆様のご参加をお待ちしております。 \n本会場（神戸）：兵庫県民会館（元町）\nサテライト会場（東京）：フォーラムミカサエコ（神田） \nセミナー終了後には\n関西イヤーエンドパーティー\n関東ではワンコイン懇親会\nも予定しております。
URL:https://jspe.org/event/%e7%ac%ac298%e5%9b%9e%ef%bc%88%e7%a5%9e%e6%88%b8%e3%83%bb%e6%9d%b1%e4%ba%ac%ef%bc%89%e9%ac%bc%e9%87%91cpd%e3%82%bb%e3%83%9f%e3%83%8a%e3%83%bc-298th-onikin-cpd-seminar-2/
LOCATION:200903_Board_Minutes
CATEGORIES:鬼金案内
ATTACH;FMTTYPE=image/jpeg:https://jspe.org/wp-content/uploads/2018/02/presentation-icon_02.jpeg
END:VEVENT
BEGIN:VEVENT
DTSTART;TZID=Asia/Tokyo:20171202T180000
DTEND;TZID=Asia/Tokyo:20171202T210000
DTSTAMP:20260420T203148
CREATED:20180227T143001Z
LAST-MODIFIED:20180227T143001Z
UID:9682-1512237600-1512248400@jspe.org
SUMMARY:関西イヤーエンドパーティー2017/Kansai Year End Party 2017
DESCRIPTION:日本プロフェッショナルエンジニア協会(JSPE)主催\n関西Year End Party(YEP) \n日時：　2017年12月2日(土)　PM6:00-PM9:00頃　（鬼金セミナー後）\n場所：　酒肆大関 南店 (本店ではないので注意ください)\nURL http://www.syusi-oozeki.com/ \n〒650-0011 兵庫県神戸市中央区下山手通１丁目 えび ら 会館 2F\n(地下鉄三宮駅西出口2から徒歩5 min)\nTEL 078-332-0090 \n催し：　自分の今年の課題、来年の抱負・計画を1分で話していただきます(自由参加)\n優秀者には幹事より豪華？賞品を贈呈します \n参加費：　男性　　　　3\,000円\n女性・学生　2\,000円 \n料理：\n・日本料理（鍋）\n・ドリンク（ワイン、ビール、カクテル、チューハイ、ソフトドリンクの飲み放題） \n参加申込/問合せ：\n阪井、森口、川村、西久保（rep（あっと）jspe.org）までメールにてご連絡ください。※お手数をおかけしますが、迷惑メール防止のため上記メールアドレス（あっと）を@（半角）に書き換えてご送信ください。
URL:https://jspe.org/event/%e9%96%a2%e8%a5%bf%e3%82%a4%e3%83%a4%e3%83%bc%e3%82%a8%e3%83%b3%e3%83%89%e3%83%91%e3%83%bc%e3%83%86%e3%82%a3%e3%83%bc2017-kansai-year-end-party-2017-3/
LOCATION:200907_Board_Minutes
CATEGORIES:イベント案内
ATTACH;FMTTYPE=image/jpeg:https://jspe.org/wp-content/uploads/2018/02/party-icon.jpeg
END:VEVENT
BEGIN:VEVENT
DTSTART;TZID=Asia/Tokyo:20171202T180000
DTEND;TZID=Asia/Tokyo:20171202T210000
DTSTAMP:20260420T203148
CREATED:20180227T143001Z
LAST-MODIFIED:20180227T143001Z
UID:9040-1512237600-1512248400@jspe.org
SUMMARY:関西イヤーエンドパーティー2017/Kansai Year End Party 2017
DESCRIPTION:日本プロフェッショナルエンジニア協会(JSPE)主催\n関西Year End Party(YEP) \n日時：　2017年12月2日(土)　PM6:00-PM9:00頃　（鬼金セミナー後）\n場所：　酒肆大関 南店 (本店ではないので注意ください)\nURL http://www.syusi-oozeki.com/ \n〒650-0011 兵庫県神戸市中央区下山手通１丁目 えび ら 会館 2F\n(地下鉄三宮駅西出口2から徒歩5 min)\nTEL 078-332-0090 \n催し：　自分の今年の課題、来年の抱負・計画を1分で話していただきます(自由参加)\n優秀者には幹事より豪華？賞品を贈呈します \n参加費：　男性　　　　3\,000円\n女性・学生　2\,000円 \n料理：\n・日本料理（鍋）\n・ドリンク（ワイン、ビール、カクテル、チューハイ、ソフトドリンクの飲み放題） \n参加申込/問合せ：\n阪井、森口、川村、西久保（rep（あっと）jspe.org）までメールにてご連絡ください。※お手数をおかけしますが、迷惑メール防止のため上記メールアドレス（あっと）を@（半角）に書き換えてご送信ください。
URL:https://jspe.org/event/%e9%96%a2%e8%a5%bf%e3%82%a4%e3%83%a4%e3%83%bc%e3%82%a8%e3%83%b3%e3%83%89%e3%83%91%e3%83%bc%e3%83%86%e3%82%a3%e3%83%bc2017-kansai-year-end-party-2017-2/
LOCATION:200907_Board_Minutes
CATEGORIES:イベント案内
ATTACH;FMTTYPE=image/jpeg:https://jspe.org/wp-content/uploads/2018/02/party-icon.jpeg
END:VEVENT
BEGIN:VEVENT
DTSTART;TZID=Asia/Tokyo:20171202T180000
DTEND;TZID=Asia/Tokyo:20171202T210000
DTSTAMP:20260420T203148
CREATED:20180227T143001Z
LAST-MODIFIED:20180227T143001Z
UID:5529-1512237600-1512248400@jspe.org
SUMMARY:関西イヤーエンドパーティー2017/Kansai Year End Party 2017
DESCRIPTION:日本プロフェッショナルエンジニア協会(JSPE)主催\n関西Year End Party(YEP) \n日時：　2017年12月2日(土)　PM6:00-PM9:00頃　（鬼金セミナー後）\n場所：　酒肆大関 南店 (本店ではないので注意ください)\nURL http://www.syusi-oozeki.com/ \n〒650-0011 兵庫県神戸市中央区下山手通１丁目 えび ら 会館 2F\n(地下鉄三宮駅西出口2から徒歩5 min)\nTEL 078-332-0090 \n催し：　自分の今年の課題、来年の抱負・計画を1分で話していただきます(自由参加)\n優秀者には幹事より豪華？賞品を贈呈します \n参加費：　男性　　　　3\,000円\n女性・学生　2\,000円 \n料理：\n・日本料理（鍋）\n・ドリンク（ワイン、ビール、カクテル、チューハイ、ソフトドリンクの飲み放題） \n参加申込/問合せ：\n阪井、森口、川村、西久保（rep（あっと）jspe.org）までメールにてご連絡ください。※お手数をおかけしますが、迷惑メール防止のため上記メールアドレス（あっと）を@（半角）に書き換えてご送信ください。
URL:https://jspe.org/event/%e9%96%a2%e8%a5%bf%e3%82%a4%e3%83%a4%e3%83%bc%e3%82%a8%e3%83%b3%e3%83%89%e3%83%91%e3%83%bc%e3%83%86%e3%82%a3%e3%83%bc2017-kansai-year-end-party-2017/
LOCATION:200907_Board_Minutes
CATEGORIES:イベント案内
ATTACH;FMTTYPE=image/jpeg:https://jspe.org/wp-content/uploads/2018/02/party-icon.jpeg
END:VEVENT
BEGIN:VEVENT
DTSTART;TZID=Asia/Tokyo:20171209T140000
DTEND;TZID=Asia/Tokyo:20171209T163000
DTSTAMP:20260420T203148
CREATED:20171120T141854Z
LAST-MODIFIED:20171120T141854Z
UID:9666-1512828000-1512837000@jspe.org
SUMMARY:第299回関東技術CPDセミナー/299th Kanto Technical CPD seminar
DESCRIPTION:【開催案内】\nCPD2017関東　（第299回CPDセミナー）\n日時　： 2017年12月9日(土)　14:00-16:30　（17:00からイヤーエンドパーティーを行います。）\n場所　： 東京飯田橋・NSRIホール\n講師　： 新谷 隆之氏（インターテックリサーチ株式会社　取締役社長）\n講演タイトル　：1) エネルギービジネスは第四次産業革命でどう変わるのか／2) 住宅・ビル制御の世界標準KNXと、その最新技術動向\n講演概要　：１）第四次産業革命という言葉は、日本ではインダストリー4.0の言葉と同時に6年くらい前から聞かれだしたが、昨年来全世界で再び脚光を浴びている。そこで、新たに脚光を浴びている第四次産業革命の特徴を確認するとともに、それが日本のエネルギービジネスにどのような影響をもたらすのかを検討する。\n２）KNXは欧州発祥のホームオートメーション／ビルオートメーションの国際標準で、すでに全世界百数十カ国で利用されている。ここでは、その規格の概要を紹介するとともに、すでに25年以上使われ続けてきたKNXがIoTの時代にどのように適応しようとしているのかを紹介する。 \nセミナー内容の予習に際して以下のインターテックリサーチ社ホームページのレポートを読んでおくことをお勧めします \n参加費：　JSPE会員 　　1\,500円\nJSPE非会員 2\,500円\n2.5hのPDHを発行します。 \n【実施報告】\n\n参加：32名(PE26名、PEN3名、他3名)＋スタッフ2名 \n12月9日 (土) に今年最後の技術CPDセミナーとして、インターテックリサーチ株式会社の新谷様より、前半が第四次産業革命、後半が世界標準KNXについてと二部構成でご講演いただきました。\n「第四次産業革命」とドイツの「インダストリー4.0」という用語は本質的には同一ではなく、「インダストリー4.0」が技術の進歩がもたらす産業構造の変化について論じていることに対し、「第四次産業革命」はデジタル革命によって広く社会構造、経済構造、ひいては我々の暮らしにもインパクトがあるということは驚きでした、実際様々な場所で用語が混在しているようです。\nまた、PEの我々としてはAI\, IoTの進出が産業構造にどのような影響を与えるのか？その時エンジニアとしての役割は？自動運転技術と同様に誰が、どのように責任を負っていくのかといった議論が出ました。\n後半のKNXは、名前さえも知らなかった受講者の方も多くいましたが、インテリジェントビル内におけるネットワーク通信プロトコルの世界標準になってきているとのことです。あらゆる規格とのゲートウェイが提供されており、空調設備、照明、セキュリティ、通信などビル内のすべての電気設備が、KNXのプロトコルの下で制御されるようになるとの感触を受けました。聞きかじりですので、理解に誤りもあるかもしれませんが、世界の動向をきちんとウォッチしていかねば自省しました。講師の新谷様にはイヤーエンドパーティーにもお越しいただき、会員の方々と交流していただきました。 \n\n技術CPDセミナーの様子（新谷講師） \n主催 ： JSPE教育部会森山/山浦
URL:https://jspe.org/event/%e3%80%90129%e3%80%91%e7%ac%ac299%e5%9b%9e%e9%96%a2%e6%9d%b1%e6%8a%80%e8%a1%93cpd%e3%82%bb%e3%83%9f%e3%83%8a%e3%83%bc-2-3/
CATEGORIES:技術セミナー案内
ATTACH;FMTTYPE=image/jpeg:https://jspe.org/wp-content/uploads/2018/02/presentation-icon_02.jpeg
END:VEVENT
BEGIN:VEVENT
DTSTART;TZID=Asia/Tokyo:20171209T140000
DTEND;TZID=Asia/Tokyo:20171209T163000
DTSTAMP:20260420T203148
CREATED:20171120T141854Z
LAST-MODIFIED:20171120T141854Z
UID:9027-1512828000-1512837000@jspe.org
SUMMARY:第299回関東技術CPDセミナー/299th Kanto Technical CPD seminar
DESCRIPTION:【開催案内】\nCPD2017関東　（第299回CPDセミナー）\n日時　： 2017年12月9日(土)　14:00-16:30　（17:00からイヤーエンドパーティーを行います。）\n場所　： 東京飯田橋・NSRIホール\n講師　： 新谷 隆之氏（インターテックリサーチ株式会社　取締役社長）\n講演タイトル　：1) エネルギービジネスは第四次産業革命でどう変わるのか／2) 住宅・ビル制御の世界標準KNXと、その最新技術動向\n講演概要　：１）第四次産業革命という言葉は、日本ではインダストリー4.0の言葉と同時に6年くらい前から聞かれだしたが、昨年来全世界で再び脚光を浴びている。そこで、新たに脚光を浴びている第四次産業革命の特徴を確認するとともに、それが日本のエネルギービジネスにどのような影響をもたらすのかを検討する。\n２）KNXは欧州発祥のホームオートメーション／ビルオートメーションの国際標準で、すでに全世界百数十カ国で利用されている。ここでは、その規格の概要を紹介するとともに、すでに25年以上使われ続けてきたKNXがIoTの時代にどのように適応しようとしているのかを紹介する。 \nセミナー内容の予習に際して以下のインターテックリサーチ社ホームページのレポートを読んでおくことをお勧めします \n参加費：　JSPE会員 　　1\,500円\nJSPE非会員 2\,500円\n2.5hのPDHを発行します。 \n【実施報告】\n\n参加：32名(PE26名、PEN3名、他3名)＋スタッフ2名 \n12月9日 (土) に今年最後の技術CPDセミナーとして、インターテックリサーチ株式会社の新谷様より、前半が第四次産業革命、後半が世界標準KNXについてと二部構成でご講演いただきました。\n「第四次産業革命」とドイツの「インダストリー4.0」という用語は本質的には同一ではなく、「インダストリー4.0」が技術の進歩がもたらす産業構造の変化について論じていることに対し、「第四次産業革命」はデジタル革命によって広く社会構造、経済構造、ひいては我々の暮らしにもインパクトがあるということは驚きでした、実際様々な場所で用語が混在しているようです。\nまた、PEの我々としてはAI\, IoTの進出が産業構造にどのような影響を与えるのか？その時エンジニアとしての役割は？自動運転技術と同様に誰が、どのように責任を負っていくのかといった議論が出ました。\n後半のKNXは、名前さえも知らなかった受講者の方も多くいましたが、インテリジェントビル内におけるネットワーク通信プロトコルの世界標準になってきているとのことです。あらゆる規格とのゲートウェイが提供されており、空調設備、照明、セキュリティ、通信などビル内のすべての電気設備が、KNXのプロトコルの下で制御されるようになるとの感触を受けました。聞きかじりですので、理解に誤りもあるかもしれませんが、世界の動向をきちんとウォッチしていかねば自省しました。講師の新谷様にはイヤーエンドパーティーにもお越しいただき、会員の方々と交流していただきました。 \n\n技術CPDセミナーの様子（新谷講師） \n主催 ： JSPE教育部会森山/山浦
URL:https://jspe.org/event/%e3%80%90129%e3%80%91%e7%ac%ac299%e5%9b%9e%e9%96%a2%e6%9d%b1%e6%8a%80%e8%a1%93cpd%e3%82%bb%e3%83%9f%e3%83%8a%e3%83%bc-2-2/
CATEGORIES:技術セミナー案内
ATTACH;FMTTYPE=image/jpeg:https://jspe.org/wp-content/uploads/2018/02/presentation-icon_02.jpeg
END:VEVENT
BEGIN:VEVENT
DTSTART;TZID=Asia/Tokyo:20171209T140000
DTEND;TZID=Asia/Tokyo:20171209T163000
DTSTAMP:20260420T203148
CREATED:20171120T141854Z
LAST-MODIFIED:20171120T141854Z
UID:220-1512828000-1512837000@jspe.org
SUMMARY:第299回関東技術CPDセミナー/299th Kanto Technical CPD seminar
DESCRIPTION:【開催案内】\nCPD2017関東　（第299回CPDセミナー）\n日時　： 2017年12月9日(土)　14:00-16:30　（17:00からイヤーエンドパーティーを行います。）\n場所　： 東京飯田橋・NSRIホール\n講師　： 新谷 隆之氏（インターテックリサーチ株式会社　取締役社長）\n講演タイトル　：1) エネルギービジネスは第四次産業革命でどう変わるのか／2) 住宅・ビル制御の世界標準KNXと、その最新技術動向\n講演概要　：１）第四次産業革命という言葉は、日本ではインダストリー4.0の言葉と同時に6年くらい前から聞かれだしたが、昨年来全世界で再び脚光を浴びている。そこで、新たに脚光を浴びている第四次産業革命の特徴を確認するとともに、それが日本のエネルギービジネスにどのような影響をもたらすのかを検討する。\n２）KNXは欧州発祥のホームオートメーション／ビルオートメーションの国際標準で、すでに全世界百数十カ国で利用されている。ここでは、その規格の概要を紹介するとともに、すでに25年以上使われ続けてきたKNXがIoTの時代にどのように適応しようとしているのかを紹介する。 \nセミナー内容の予習に際して以下のインターテックリサーチ社ホームページのレポートを読んでおくことをお勧めします \n参加費：　JSPE会員 　　1\,500円\nJSPE非会員 2\,500円\n2.5hのPDHを発行します。 \n【実施報告】\n\n参加：32名(PE26名、PEN3名、他3名)＋スタッフ2名 \n12月9日 (土) に今年最後の技術CPDセミナーとして、インターテックリサーチ株式会社の新谷様より、前半が第四次産業革命、後半が世界標準KNXについてと二部構成でご講演いただきました。\n「第四次産業革命」とドイツの「インダストリー4.0」という用語は本質的には同一ではなく、「インダストリー4.0」が技術の進歩がもたらす産業構造の変化について論じていることに対し、「第四次産業革命」はデジタル革命によって広く社会構造、経済構造、ひいては我々の暮らしにもインパクトがあるということは驚きでした、実際様々な場所で用語が混在しているようです。\nまた、PEの我々としてはAI\, IoTの進出が産業構造にどのような影響を与えるのか？その時エンジニアとしての役割は？自動運転技術と同様に誰が、どのように責任を負っていくのかといった議論が出ました。\n後半のKNXは、名前さえも知らなかった受講者の方も多くいましたが、インテリジェントビル内におけるネットワーク通信プロトコルの世界標準になってきているとのことです。あらゆる規格とのゲートウェイが提供されており、空調設備、照明、セキュリティ、通信などビル内のすべての電気設備が、KNXのプロトコルの下で制御されるようになるとの感触を受けました。聞きかじりですので、理解に誤りもあるかもしれませんが、世界の動向をきちんとウォッチしていかねば自省しました。講師の新谷様にはイヤーエンドパーティーにもお越しいただき、会員の方々と交流していただきました。 \n\n技術CPDセミナーの様子（新谷講師） \n主催 ： JSPE教育部会森山/山浦
URL:https://jspe.org/event/%e3%80%90129%e3%80%91%e7%ac%ac299%e5%9b%9e%e9%96%a2%e6%9d%b1%e6%8a%80%e8%a1%93cpd%e3%82%bb%e3%83%9f%e3%83%8a%e3%83%bc-2/
CATEGORIES:技術セミナー案内
ATTACH;FMTTYPE=image/jpeg:https://jspe.org/wp-content/uploads/2018/02/presentation-icon_02.jpeg
END:VEVENT
BEGIN:VEVENT
DTSTART;TZID=Asia/Tokyo:20171209T170000
DTEND;TZID=Asia/Tokyo:20171209T193000
DTSTAMP:20260420T203148
CREATED:20171120T135116Z
LAST-MODIFIED:20171120T135116Z
UID:218-1512838800-1512847800@jspe.org
SUMMARY:関東イヤーエンドパーティー2017/Kanto Year End Party 2017
DESCRIPTION:【開催案内】\n今年も残すところあと僅かとなりました。 \n恒例のYear End Partyを下記の要領で開催致します。 \n時節柄、公私ご多忙中とは思いますが、\n万障お繰り合わせの上、ご出席くださいますようご案内申し上げます。\n仕事に打込んだこと、趣味に没頭したこと、JSPE活動に関わったこと…\nアットホームな雰囲気で、今年の皆様の活動を全て語り尽しましょう。 \nイヤーエンドパーティー（YEP）2017\n日時：2017年12月9日(土)　17:00 – 19:30\n場所：東京飯田橋・貸切 ダイニングバー Rupo\nTEL：050-3468-6514\nURL： https://r.gnavi.co.jp/myep8uu50000/ \n参加費：男性3\,000円 （JSPE会員、非会員の方共）\n女性2\,500円 （JSPE会員、非会員の方共）\n（当日の第299回CPDセミナー参加の方は、セミナー＋YEP参加で、合計から500円引きします。） \n催し物：今年は鈴木会員による今年の振り返りイベントが復活。恒例のクイズコーナーも実施いたします。 \n【実施報告】\n参加：34名(PE22名、PEN3名、他9名) \n今年最後の技術CPDセミナーで勉強した後は、ビールで喉を潤して、懇親を深めるイヤーエンドパーティーを実施しました。\n昨年は会場スペースの関係からお断りせざるを得なかった人もでましたが、今年は立食形式にして、34人もの方に参加して頂きました。会場で自由に動け回れるので、いろいろな方とお話ができ、会員交流という面からもとてもよかったと評価は上々でした。\nSAME横田基地からはSmith少佐と板垣様にお越しいただき、スピーチとともに今後ともSAME-JSPEの関係を深めていきたいという思いを伝えあいました。講師の新谷様と同僚でもあるエネルギー総研からもたくさんの関係者にお越しいただき、大変賑やかになりました。\n今年の振り返りスライドでは鈴木会員のトークが復活し、渋谷会員、植村理事への無茶ぶりでコメントをいただきました。\n山浦理事のいじわるクイズも好評で、皆さん必死に回答いただきました。今年は同点1位が3名も出て、じゃんけんによって山口会員が優勝者となりました。\nまた、来年も様々なイベントを企画していきたいと思いますので、皆様ご参加の程よろしくお願いいたします。 \n\n \n植村監事からのコメント \n \nクイズ大会優勝者の山口会員 \n\n主催 ： JSPE教育部会森山/山浦
URL:https://jspe.org/event/%e3%80%90%e9%96%a2%e6%9d%b1%e3%82%a4%e3%83%a4%e3%83%bc%e3%82%a8%e3%83%b3%e3%83%89%e3%83%91%e3%83%bc%e3%83%86%e3%82%a3%e3%83%bc%e9%96%8b%e5%82%ac%e6%a1%88%e5%86%85%e3%80%91-129-2/
CATEGORIES:イベント案内
ATTACH;FMTTYPE=image/jpeg:https://jspe.org/wp-content/uploads/2018/02/party-icon.jpeg
END:VEVENT
BEGIN:VEVENT
DTSTART;TZID=Asia/Tokyo:20171209T170000
DTEND;TZID=Asia/Tokyo:20171209T193000
DTSTAMP:20260420T203148
CREATED:20171120T135116Z
LAST-MODIFIED:20171120T135116Z
UID:9665-1512838800-1512847800@jspe.org
SUMMARY:関東イヤーエンドパーティー2017/Kanto Year End Party 2017
DESCRIPTION:【開催案内】\n今年も残すところあと僅かとなりました。 \n恒例のYear End Partyを下記の要領で開催致します。 \n時節柄、公私ご多忙中とは思いますが、\n万障お繰り合わせの上、ご出席くださいますようご案内申し上げます。\n仕事に打込んだこと、趣味に没頭したこと、JSPE活動に関わったこと…\nアットホームな雰囲気で、今年の皆様の活動を全て語り尽しましょう。 \nイヤーエンドパーティー（YEP）2017\n日時：2017年12月9日(土)　17:00 – 19:30\n場所：東京飯田橋・貸切 ダイニングバー Rupo\nTEL：050-3468-6514\nURL： https://r.gnavi.co.jp/myep8uu50000/ \n参加費：男性3\,000円 （JSPE会員、非会員の方共）\n女性2\,500円 （JSPE会員、非会員の方共）\n（当日の第299回CPDセミナー参加の方は、セミナー＋YEP参加で、合計から500円引きします。） \n催し物：今年は鈴木会員による今年の振り返りイベントが復活。恒例のクイズコーナーも実施いたします。 \n【実施報告】\n参加：34名(PE22名、PEN3名、他9名) \n今年最後の技術CPDセミナーで勉強した後は、ビールで喉を潤して、懇親を深めるイヤーエンドパーティーを実施しました。\n昨年は会場スペースの関係からお断りせざるを得なかった人もでましたが、今年は立食形式にして、34人もの方に参加して頂きました。会場で自由に動け回れるので、いろいろな方とお話ができ、会員交流という面からもとてもよかったと評価は上々でした。\nSAME横田基地からはSmith少佐と板垣様にお越しいただき、スピーチとともに今後ともSAME-JSPEの関係を深めていきたいという思いを伝えあいました。講師の新谷様と同僚でもあるエネルギー総研からもたくさんの関係者にお越しいただき、大変賑やかになりました。\n今年の振り返りスライドでは鈴木会員のトークが復活し、渋谷会員、植村理事への無茶ぶりでコメントをいただきました。\n山浦理事のいじわるクイズも好評で、皆さん必死に回答いただきました。今年は同点1位が3名も出て、じゃんけんによって山口会員が優勝者となりました。\nまた、来年も様々なイベントを企画していきたいと思いますので、皆様ご参加の程よろしくお願いいたします。 \n\n \n植村監事からのコメント \n \nクイズ大会優勝者の山口会員 \n\n主催 ： JSPE教育部会森山/山浦
URL:https://jspe.org/event/%e3%80%90%e9%96%a2%e6%9d%b1%e3%82%a4%e3%83%a4%e3%83%bc%e3%82%a8%e3%83%b3%e3%83%89%e3%83%91%e3%83%bc%e3%83%86%e3%82%a3%e3%83%bc%e9%96%8b%e5%82%ac%e6%a1%88%e5%86%85%e3%80%91-129-2-3/
CATEGORIES:イベント案内
ATTACH;FMTTYPE=image/jpeg:https://jspe.org/wp-content/uploads/2018/02/party-icon.jpeg
END:VEVENT
BEGIN:VEVENT
DTSTART;TZID=Asia/Tokyo:20171209T170000
DTEND;TZID=Asia/Tokyo:20171209T193000
DTSTAMP:20260420T203148
CREATED:20171120T135116Z
LAST-MODIFIED:20171120T135116Z
UID:9026-1512838800-1512847800@jspe.org
SUMMARY:関東イヤーエンドパーティー2017/Kanto Year End Party 2017
DESCRIPTION:【開催案内】\n今年も残すところあと僅かとなりました。 \n恒例のYear End Partyを下記の要領で開催致します。 \n時節柄、公私ご多忙中とは思いますが、\n万障お繰り合わせの上、ご出席くださいますようご案内申し上げます。\n仕事に打込んだこと、趣味に没頭したこと、JSPE活動に関わったこと…\nアットホームな雰囲気で、今年の皆様の活動を全て語り尽しましょう。 \nイヤーエンドパーティー（YEP）2017\n日時：2017年12月9日(土)　17:00 – 19:30\n場所：東京飯田橋・貸切 ダイニングバー Rupo\nTEL：050-3468-6514\nURL： https://r.gnavi.co.jp/myep8uu50000/ \n参加費：男性3\,000円 （JSPE会員、非会員の方共）\n女性2\,500円 （JSPE会員、非会員の方共）\n（当日の第299回CPDセミナー参加の方は、セミナー＋YEP参加で、合計から500円引きします。） \n催し物：今年は鈴木会員による今年の振り返りイベントが復活。恒例のクイズコーナーも実施いたします。 \n【実施報告】\n参加：34名(PE22名、PEN3名、他9名) \n今年最後の技術CPDセミナーで勉強した後は、ビールで喉を潤して、懇親を深めるイヤーエンドパーティーを実施しました。\n昨年は会場スペースの関係からお断りせざるを得なかった人もでましたが、今年は立食形式にして、34人もの方に参加して頂きました。会場で自由に動け回れるので、いろいろな方とお話ができ、会員交流という面からもとてもよかったと評価は上々でした。\nSAME横田基地からはSmith少佐と板垣様にお越しいただき、スピーチとともに今後ともSAME-JSPEの関係を深めていきたいという思いを伝えあいました。講師の新谷様と同僚でもあるエネルギー総研からもたくさんの関係者にお越しいただき、大変賑やかになりました。\n今年の振り返りスライドでは鈴木会員のトークが復活し、渋谷会員、植村理事への無茶ぶりでコメントをいただきました。\n山浦理事のいじわるクイズも好評で、皆さん必死に回答いただきました。今年は同点1位が3名も出て、じゃんけんによって山口会員が優勝者となりました。\nまた、来年も様々なイベントを企画していきたいと思いますので、皆様ご参加の程よろしくお願いいたします。 \n\n \n植村監事からのコメント \n \nクイズ大会優勝者の山口会員 \n\n主催 ： JSPE教育部会森山/山浦
URL:https://jspe.org/event/%e3%80%90%e9%96%a2%e6%9d%b1%e3%82%a4%e3%83%a4%e3%83%bc%e3%82%a8%e3%83%b3%e3%83%89%e3%83%91%e3%83%bc%e3%83%86%e3%82%a3%e3%83%bc%e9%96%8b%e5%82%ac%e6%a1%88%e5%86%85%e3%80%91-129-2-2/
CATEGORIES:イベント案内
ATTACH;FMTTYPE=image/jpeg:https://jspe.org/wp-content/uploads/2018/02/party-icon.jpeg
END:VEVENT
END:VCALENDAR