BEGIN:VCALENDAR
VERSION:2.0
PRODID:-//日本プロフェッショナルエンジニア協会 - ECPv6.10.0//NONSGML v1.0//EN
CALSCALE:GREGORIAN
METHOD:PUBLISH
X-WR-CALNAME:日本プロフェッショナルエンジニア協会
X-ORIGINAL-URL:https://jspe.org
X-WR-CALDESC:日本プロフェッショナルエンジニア協会 のイベント
REFRESH-INTERVAL;VALUE=DURATION:PT1H
X-Robots-Tag:noindex
X-PUBLISHED-TTL:PT1H
BEGIN:VTIMEZONE
TZID:Asia/Tokyo
BEGIN:STANDARD
TZOFFSETFROM:+0900
TZOFFSETTO:+0900
TZNAME:JST
DTSTART:20170101T000000
END:STANDARD
END:VTIMEZONE
BEGIN:VEVENT
DTSTART;VALUE=DATE:20171001
DTEND;VALUE=DATE:20171002
DTSTAMP:20260421T032808
CREATED:20180413T070205Z
LAST-MODIFIED:20180413T070205Z
UID:9068-1506816000-1506902399@jspe.org
SUMMARY:JSPEマガジンVol.39（2017 October）/JSPE Magazine
DESCRIPTION:JSPEマガジン秋号発行
URL:https://jspe.org/event/jspe%e3%83%9e%e3%82%ac%e3%82%b8%e3%83%b3vol-39%ef%bc%882017-october%ef%bc%89-jspe-magazine-2/
CATEGORIES:マガジン案内
ATTACH;FMTTYPE=image/jpeg:https://jspe.org/wp-content/uploads/2018/02/book-icon.jpeg
END:VEVENT
BEGIN:VEVENT
DTSTART;VALUE=DATE:20171001
DTEND;VALUE=DATE:20171002
DTSTAMP:20260421T032808
CREATED:20180413T070205Z
LAST-MODIFIED:20180413T070205Z
UID:9709-1506816000-1506902399@jspe.org
SUMMARY:JSPEマガジンVol.39（2017 October）/JSPE Magazine
DESCRIPTION:JSPEマガジン秋号発行
URL:https://jspe.org/event/jspe%e3%83%9e%e3%82%ac%e3%82%b8%e3%83%b3vol-39%ef%bc%882017-october%ef%bc%89-jspe-magazine-3/
CATEGORIES:マガジン案内
ATTACH;FMTTYPE=image/jpeg:https://jspe.org/wp-content/uploads/2018/02/book-icon.jpeg
END:VEVENT
BEGIN:VEVENT
DTSTART;TZID=Asia/Tokyo:20171014T130000
DTEND;TZID=Asia/Tokyo:20171014T161500
DTSTAMP:20260421T032808
CREATED:20180216T143613Z
LAST-MODIFIED:20180216T143613Z
UID:5526-1507986000-1507997700@jspe.org
SUMMARY:第296回（神戸・東京）鬼金CPDセミナー/296th Onikin CPD seminar
DESCRIPTION:【開催案内】\nJSPEは米国プロジェクトマネジメント協会の登録教育事業者として、プロジェクトマネジメントに関するセミナー(鬼金セミナー)を開催しています。 \n本セミナーでは(PMBOK® Guide) 5th Edition\, Project Management Institute\, Inc.\,2013.を教科書として、6セミナー×3h＝18hを予定しており、\nセミナー参加者には、Professional Engineer(PE)に必要な継続学習時間(PDH)やProject Management Professional(PMP)®必要な継続学習時間(PDU)が発行されます。 \n鬼金CPDセミナー（PMセミナーセッション1）\n開催日程：2017/10/14 (土)　13:00-16:15\n参加費　：3\,000円(JSPE会員)、5\,000円(非会員)\n講師　　：西久保　東功　PE\, PMP & Ph-D\, JSPE理事\nTokoh Nishikubo\, PE\, PMP & Ph-D\, Director of JSPE\n副講師　：森山　亮　PE\, PMP & Ph-D\, JSPE理事\nRyo Moriyama\, PE\, PMP & Ph-D\, Director of JSPE\nCPD&PDU：3PDHおよび3PDU or 3 Contact hoursを提供\n提供PDU : 3.0 Hr (Leadership 1.0 Hr\, Technical 1.0 Hr\, Strategic 1.0 Hr) \n講演題名：組み込みソフトウェア開発におけるプロジェクトマネジメントと教訓\n英語タイトル：Project Management Practices and Its Lessons Learned in the Field of Embedded Software Development\n講演概要：皆さんはソフトウェア開発に対してどのようなイメージを持たれているでしょうか。ハードウェアのトラブルをケアしてくれる便利なイメージを持たれている方もいることでしょう。しかしながら、設計したソフトウェアの品質について考えると、ハードウェアの視点と大きく異なります。破壊を起点とした、すなわち問題を起こすことで性能判断が可能なハードウェアと異なり、ソフトウェアは如何なる場合でも不具合を起こすことなく動作することが求められます。故に、問題のないことを証明しなければなりません。この視点に立った時、簡単に変更できるプログラムのコード1行をどのように修正するかまで注意を払う必要があり、容易な変更はできないといえます。\n製品開発の視点に立つと、ハードウェアの特性を十分理解できていなかったため、ソフトウェアの仕様に漏れがあり、結果として手戻りが発生したことも多いように思います。この逆のケースも当然あります。以上の内容をふまえ、講義では、以下の内容に焦点をあて議論を行います。\n①ソフトウェア設計者の視点を理解するためには、どのような考え方を把握するべきか\n②組み込みソフトウェア開発のトラブル事例に沿って、それを回避するためにはどのようなアプローチが必要であったか \n【実施報告】\n\n参加：＜神戸＞9名(PE7名、PEN2名)\n＜東京＞16名(PE13名、PEN2名、FE1名) \n10月14日(土)に鬼金CPD 2017「Project Cases practiced by Professional Engineers and PMBOK® Guide-3」(1858 JSPE2017-1）の第3講「組み込みシステム開発におけるプロジェクトマネージメントと教訓」を行いました。神戸会場においてJSPE理事の西久保東功が講師を務め、サテライトの東京会場（副講師：稲葉理事）と連携する形で実施しました。\n今回は講師が携わってきたモータ駆動技術における経験から、ソフトウェアとハードウェアの連携強化にターゲットを当て、解説が行われました。\n演習では、小型ロボットアーム開発を事例にして、ソフトウェアとハードウェアの仕様設定、仕様変更などについて、グループに分かれ討議を行い、発表を行いました。 \n \n神戸会場の様子 \n \n東京会場の様子 \n \nグループディスカッションの様子（東京会場） \n  \nJSPE鬼金分会 \n\n 
URL:https://jspe.org/event/%e7%ac%ac296%e5%9b%9e%ef%bc%88%e7%a5%9e%e6%88%b8%e3%83%bb%e6%9d%b1%e4%ba%ac%ef%bc%89%e9%ac%bc%e9%87%91cpd%e3%82%bb%e3%83%9f%e3%83%8a%e3%83%bc-1014/
CATEGORIES:鬼金案内
ATTACH;FMTTYPE=image/jpeg:https://jspe.org/wp-content/uploads/2018/02/presentation-icon_02.jpeg
END:VEVENT
BEGIN:VEVENT
DTSTART;TZID=Asia/Tokyo:20171014T130000
DTEND;TZID=Asia/Tokyo:20171014T161500
DTSTAMP:20260421T032808
CREATED:20180216T143613Z
LAST-MODIFIED:20180216T143613Z
UID:9676-1507986000-1507997700@jspe.org
SUMMARY:第296回（神戸・東京）鬼金CPDセミナー/296th Onikin CPD seminar
DESCRIPTION:【開催案内】\nJSPEは米国プロジェクトマネジメント協会の登録教育事業者として、プロジェクトマネジメントに関するセミナー(鬼金セミナー)を開催しています。 \n本セミナーでは(PMBOK® Guide) 5th Edition\, Project Management Institute\, Inc.\,2013.を教科書として、6セミナー×3h＝18hを予定しており、\nセミナー参加者には、Professional Engineer(PE)に必要な継続学習時間(PDH)やProject Management Professional(PMP)®必要な継続学習時間(PDU)が発行されます。 \n鬼金CPDセミナー（PMセミナーセッション1）\n開催日程：2017/10/14 (土)　13:00-16:15\n参加費　：3\,000円(JSPE会員)、5\,000円(非会員)\n講師　　：西久保　東功　PE\, PMP & Ph-D\, JSPE理事\nTokoh Nishikubo\, PE\, PMP & Ph-D\, Director of JSPE\n副講師　：森山　亮　PE\, PMP & Ph-D\, JSPE理事\nRyo Moriyama\, PE\, PMP & Ph-D\, Director of JSPE\nCPD&PDU：3PDHおよび3PDU or 3 Contact hoursを提供\n提供PDU : 3.0 Hr (Leadership 1.0 Hr\, Technical 1.0 Hr\, Strategic 1.0 Hr) \n講演題名：組み込みソフトウェア開発におけるプロジェクトマネジメントと教訓\n英語タイトル：Project Management Practices and Its Lessons Learned in the Field of Embedded Software Development\n講演概要：皆さんはソフトウェア開発に対してどのようなイメージを持たれているでしょうか。ハードウェアのトラブルをケアしてくれる便利なイメージを持たれている方もいることでしょう。しかしながら、設計したソフトウェアの品質について考えると、ハードウェアの視点と大きく異なります。破壊を起点とした、すなわち問題を起こすことで性能判断が可能なハードウェアと異なり、ソフトウェアは如何なる場合でも不具合を起こすことなく動作することが求められます。故に、問題のないことを証明しなければなりません。この視点に立った時、簡単に変更できるプログラムのコード1行をどのように修正するかまで注意を払う必要があり、容易な変更はできないといえます。\n製品開発の視点に立つと、ハードウェアの特性を十分理解できていなかったため、ソフトウェアの仕様に漏れがあり、結果として手戻りが発生したことも多いように思います。この逆のケースも当然あります。以上の内容をふまえ、講義では、以下の内容に焦点をあて議論を行います。\n①ソフトウェア設計者の視点を理解するためには、どのような考え方を把握するべきか\n②組み込みソフトウェア開発のトラブル事例に沿って、それを回避するためにはどのようなアプローチが必要であったか \n【実施報告】\n\n参加：＜神戸＞9名(PE7名、PEN2名)\n＜東京＞16名(PE13名、PEN2名、FE1名) \n10月14日(土)に鬼金CPD 2017「Project Cases practiced by Professional Engineers and PMBOK® Guide-3」(1858 JSPE2017-1）の第3講「組み込みシステム開発におけるプロジェクトマネージメントと教訓」を行いました。神戸会場においてJSPE理事の西久保東功が講師を務め、サテライトの東京会場（副講師：稲葉理事）と連携する形で実施しました。\n今回は講師が携わってきたモータ駆動技術における経験から、ソフトウェアとハードウェアの連携強化にターゲットを当て、解説が行われました。\n演習では、小型ロボットアーム開発を事例にして、ソフトウェアとハードウェアの仕様設定、仕様変更などについて、グループに分かれ討議を行い、発表を行いました。 \n \n神戸会場の様子 \n \n東京会場の様子 \n \nグループディスカッションの様子（東京会場） \n  \nJSPE鬼金分会 \n\n 
URL:https://jspe.org/event/%e7%ac%ac296%e5%9b%9e%ef%bc%88%e7%a5%9e%e6%88%b8%e3%83%bb%e6%9d%b1%e4%ba%ac%ef%bc%89%e9%ac%bc%e9%87%91cpd%e3%82%bb%e3%83%9f%e3%83%8a%e3%83%bc-1014-3/
CATEGORIES:鬼金案内
ATTACH;FMTTYPE=image/jpeg:https://jspe.org/wp-content/uploads/2018/02/presentation-icon_02.jpeg
END:VEVENT
BEGIN:VEVENT
DTSTART;TZID=Asia/Tokyo:20171014T130000
DTEND;TZID=Asia/Tokyo:20171014T161500
DTSTAMP:20260421T032808
CREATED:20180216T143613Z
LAST-MODIFIED:20180216T143613Z
UID:9037-1507986000-1507997700@jspe.org
SUMMARY:第296回（神戸・東京）鬼金CPDセミナー/296th Onikin CPD seminar
DESCRIPTION:【開催案内】\nJSPEは米国プロジェクトマネジメント協会の登録教育事業者として、プロジェクトマネジメントに関するセミナー(鬼金セミナー)を開催しています。 \n本セミナーでは(PMBOK® Guide) 5th Edition\, Project Management Institute\, Inc.\,2013.を教科書として、6セミナー×3h＝18hを予定しており、\nセミナー参加者には、Professional Engineer(PE)に必要な継続学習時間(PDH)やProject Management Professional(PMP)®必要な継続学習時間(PDU)が発行されます。 \n鬼金CPDセミナー（PMセミナーセッション1）\n開催日程：2017/10/14 (土)　13:00-16:15\n参加費　：3\,000円(JSPE会員)、5\,000円(非会員)\n講師　　：西久保　東功　PE\, PMP & Ph-D\, JSPE理事\nTokoh Nishikubo\, PE\, PMP & Ph-D\, Director of JSPE\n副講師　：森山　亮　PE\, PMP & Ph-D\, JSPE理事\nRyo Moriyama\, PE\, PMP & Ph-D\, Director of JSPE\nCPD&PDU：3PDHおよび3PDU or 3 Contact hoursを提供\n提供PDU : 3.0 Hr (Leadership 1.0 Hr\, Technical 1.0 Hr\, Strategic 1.0 Hr) \n講演題名：組み込みソフトウェア開発におけるプロジェクトマネジメントと教訓\n英語タイトル：Project Management Practices and Its Lessons Learned in the Field of Embedded Software Development\n講演概要：皆さんはソフトウェア開発に対してどのようなイメージを持たれているでしょうか。ハードウェアのトラブルをケアしてくれる便利なイメージを持たれている方もいることでしょう。しかしながら、設計したソフトウェアの品質について考えると、ハードウェアの視点と大きく異なります。破壊を起点とした、すなわち問題を起こすことで性能判断が可能なハードウェアと異なり、ソフトウェアは如何なる場合でも不具合を起こすことなく動作することが求められます。故に、問題のないことを証明しなければなりません。この視点に立った時、簡単に変更できるプログラムのコード1行をどのように修正するかまで注意を払う必要があり、容易な変更はできないといえます。\n製品開発の視点に立つと、ハードウェアの特性を十分理解できていなかったため、ソフトウェアの仕様に漏れがあり、結果として手戻りが発生したことも多いように思います。この逆のケースも当然あります。以上の内容をふまえ、講義では、以下の内容に焦点をあて議論を行います。\n①ソフトウェア設計者の視点を理解するためには、どのような考え方を把握するべきか\n②組み込みソフトウェア開発のトラブル事例に沿って、それを回避するためにはどのようなアプローチが必要であったか \n【実施報告】\n\n参加：＜神戸＞9名(PE7名、PEN2名)\n＜東京＞16名(PE13名、PEN2名、FE1名) \n10月14日(土)に鬼金CPD 2017「Project Cases practiced by Professional Engineers and PMBOK® Guide-3」(1858 JSPE2017-1）の第3講「組み込みシステム開発におけるプロジェクトマネージメントと教訓」を行いました。神戸会場においてJSPE理事の西久保東功が講師を務め、サテライトの東京会場（副講師：稲葉理事）と連携する形で実施しました。\n今回は講師が携わってきたモータ駆動技術における経験から、ソフトウェアとハードウェアの連携強化にターゲットを当て、解説が行われました。\n演習では、小型ロボットアーム開発を事例にして、ソフトウェアとハードウェアの仕様設定、仕様変更などについて、グループに分かれ討議を行い、発表を行いました。 \n \n神戸会場の様子 \n \n東京会場の様子 \n \nグループディスカッションの様子（東京会場） \n  \nJSPE鬼金分会 \n\n 
URL:https://jspe.org/event/%e7%ac%ac296%e5%9b%9e%ef%bc%88%e7%a5%9e%e6%88%b8%e3%83%bb%e6%9d%b1%e4%ba%ac%ef%bc%89%e9%ac%bc%e9%87%91cpd%e3%82%bb%e3%83%9f%e3%83%8a%e3%83%bc-1014-2/
CATEGORIES:鬼金案内
ATTACH;FMTTYPE=image/jpeg:https://jspe.org/wp-content/uploads/2018/02/presentation-icon_02.jpeg
END:VEVENT
END:VCALENDAR