BEGIN:VCALENDAR
VERSION:2.0
PRODID:-//日本プロフェッショナルエンジニア協会 - ECPv6.10.0//NONSGML v1.0//EN
CALSCALE:GREGORIAN
METHOD:PUBLISH
X-WR-CALNAME:日本プロフェッショナルエンジニア協会
X-ORIGINAL-URL:https://jspe.org
X-WR-CALDESC:日本プロフェッショナルエンジニア協会 のイベント
REFRESH-INTERVAL;VALUE=DURATION:PT1H
X-Robots-Tag:noindex
X-PUBLISHED-TTL:PT1H
BEGIN:VTIMEZONE
TZID:Asia/Tokyo
BEGIN:STANDARD
TZOFFSETFROM:+0900
TZOFFSETTO:+0900
TZNAME:JST
DTSTART:20170101T000000
END:STANDARD
END:VTIMEZONE
BEGIN:VEVENT
DTSTART;TZID=Asia/Tokyo:20170902T130000
DTEND;TZID=Asia/Tokyo:20170902T161500
DTSTAMP:20260421T050902
CREATED:20180302T141634Z
LAST-MODIFIED:20180302T141634Z
UID:9048-1504357200-1504368900@jspe.org
SUMMARY:第294回（神戸・東京）鬼金CPDセミナー/294th Onikin CPD seminar
DESCRIPTION:JSPEは米国プロジェクトマネジメント協会の登録教育事業者として、プロジェクトマネジメントに関するセミナー(鬼金セミナー)を開催しています。 \n本セミナーでは(PMBOK® Guide) 5th Edition\, Project Management Institute\, Inc.\,2013.を教科書として、6セミナー×3h＝18hを予定しており、\nセミナー参加者には、Professional Engineer(PE)に必要な継続学習時間(PDH)やProject Management Professional(PMP)®必要な継続学習時間(PDU)が発行されます。 \n鬼金CPDセミナー（PMセミナーセッション1）\n開催日程：2017/9/2 (土)　13:00-16:15\n参加費　：3\,000円(JSPE会員)、5\,000円(非会員)\n講師　　：阪井　敦　PE\, PMP\, JSPE理事\n副講師　：稲葉　光亮　PE\, PMP\, JSPE理事\nCPD&PDU：3PDHおよび3PDU or 3 Contact hoursを提供\n提供PDU : 3.0 Hr (Leadership 1.0 Hr\, Technical 1.0 Hr\, Strategic 1.0 Hr) \n講演題名：発注者側プロマネの視点とトラブル事例\nViewpoint and Trouble Cases of Project Manager on the Client side \n講演概要：講師は発注者側の立場でプロジェクト業務に15年携わり、最後の3年は発注者側のプロマネとして、化学プラント建設業務に従事した。その後に転職して、受注者側の立場でプロマネとしてプロジェクトに携わることになった。発注者側の立場では、プロジェクトの進捗や追加見積りなど、かなりの部分が受注者側に責任があると思っていたが、受注者側の立場になって過去を振り返ると、発注者側のプロマネとしても至らなかったことが多いように思う。また、受注側の立場では、発注者側の意図が正確に理解できていれば、トラブルも防止できたかもしれない。発注者、受注者の双方がお互いに相手の立場を知れば、プロジェクトは円滑に進めることができるのではないかと考えている。そこで、今回は、経験してきた発注者側の立場から、発注者および受注者の考え方の違いを述べ、発注者としてのプロマネ時代のトラブルを事例に議論を行いたい。 \n多数の会員、非会員の皆様のご参加をお待ちしております。 \n本会場（神戸）：兵庫県民会館（元町）\nサテライト会場（東京）：フォーラムミカサエコ（神田）\nセミナー終了後にはワンコイン懇親会も予定しております。 \nJSPE　企画部会　阪井敦\n教育部会　森山亮
URL:https://jspe.org/event/%e7%ac%ac294%e5%9b%9e%ef%bc%88%e7%a5%9e%e6%88%b8%e3%83%bb%e6%9d%b1%e4%ba%ac%ef%bc%89%e9%ac%bc%e9%87%91cpd%e3%82%bb%e3%83%9f%e3%83%8a%e3%83%bc-2/
CATEGORIES:鬼金案内
ATTACH;FMTTYPE=image/jpeg:https://jspe.org/wp-content/uploads/2018/02/presentation-icon_02.jpeg
END:VEVENT
BEGIN:VEVENT
DTSTART;TZID=Asia/Tokyo:20170902T130000
DTEND;TZID=Asia/Tokyo:20170902T161500
DTSTAMP:20260421T050902
CREATED:20180302T141634Z
LAST-MODIFIED:20180302T141634Z
UID:1103-1504357200-1504368900@jspe.org
SUMMARY:第294回（神戸・東京）鬼金CPDセミナー/294th Onikin CPD seminar
DESCRIPTION:JSPEは米国プロジェクトマネジメント協会の登録教育事業者として、プロジェクトマネジメントに関するセミナー(鬼金セミナー)を開催しています。 \n本セミナーでは(PMBOK® Guide) 5th Edition\, Project Management Institute\, Inc.\,2013.を教科書として、6セミナー×3h＝18hを予定しており、\nセミナー参加者には、Professional Engineer(PE)に必要な継続学習時間(PDH)やProject Management Professional(PMP)®必要な継続学習時間(PDU)が発行されます。 \n鬼金CPDセミナー（PMセミナーセッション1）\n開催日程：2017/9/2 (土)　13:00-16:15\n参加費　：3\,000円(JSPE会員)、5\,000円(非会員)\n講師　　：阪井　敦　PE\, PMP\, JSPE理事\n副講師　：稲葉　光亮　PE\, PMP\, JSPE理事\nCPD&PDU：3PDHおよび3PDU or 3 Contact hoursを提供\n提供PDU : 3.0 Hr (Leadership 1.0 Hr\, Technical 1.0 Hr\, Strategic 1.0 Hr) \n講演題名：発注者側プロマネの視点とトラブル事例\nViewpoint and Trouble Cases of Project Manager on the Client side \n講演概要：講師は発注者側の立場でプロジェクト業務に15年携わり、最後の3年は発注者側のプロマネとして、化学プラント建設業務に従事した。その後に転職して、受注者側の立場でプロマネとしてプロジェクトに携わることになった。発注者側の立場では、プロジェクトの進捗や追加見積りなど、かなりの部分が受注者側に責任があると思っていたが、受注者側の立場になって過去を振り返ると、発注者側のプロマネとしても至らなかったことが多いように思う。また、受注側の立場では、発注者側の意図が正確に理解できていれば、トラブルも防止できたかもしれない。発注者、受注者の双方がお互いに相手の立場を知れば、プロジェクトは円滑に進めることができるのではないかと考えている。そこで、今回は、経験してきた発注者側の立場から、発注者および受注者の考え方の違いを述べ、発注者としてのプロマネ時代のトラブルを事例に議論を行いたい。 \n多数の会員、非会員の皆様のご参加をお待ちしております。 \n本会場（神戸）：兵庫県民会館（元町）\nサテライト会場（東京）：フォーラムミカサエコ（神田）\nセミナー終了後にはワンコイン懇親会も予定しております。 \nJSPE　企画部会　阪井敦\n教育部会　森山亮
URL:https://jspe.org/event/%e7%ac%ac294%e5%9b%9e%ef%bc%88%e7%a5%9e%e6%88%b8%e3%83%bb%e6%9d%b1%e4%ba%ac%ef%bc%89%e9%ac%bc%e9%87%91cpd%e3%82%bb%e3%83%9f%e3%83%8a%e3%83%bc/
CATEGORIES:鬼金案内
ATTACH;FMTTYPE=image/jpeg:https://jspe.org/wp-content/uploads/2018/02/presentation-icon_02.jpeg
END:VEVENT
BEGIN:VEVENT
DTSTART;TZID=Asia/Tokyo:20170902T130000
DTEND;TZID=Asia/Tokyo:20170902T161500
DTSTAMP:20260421T050902
CREATED:20180302T141634Z
LAST-MODIFIED:20180302T141634Z
UID:9689-1504357200-1504368900@jspe.org
SUMMARY:第294回（神戸・東京）鬼金CPDセミナー/294th Onikin CPD seminar
DESCRIPTION:JSPEは米国プロジェクトマネジメント協会の登録教育事業者として、プロジェクトマネジメントに関するセミナー(鬼金セミナー)を開催しています。 \n本セミナーでは(PMBOK® Guide) 5th Edition\, Project Management Institute\, Inc.\,2013.を教科書として、6セミナー×3h＝18hを予定しており、\nセミナー参加者には、Professional Engineer(PE)に必要な継続学習時間(PDH)やProject Management Professional(PMP)®必要な継続学習時間(PDU)が発行されます。 \n鬼金CPDセミナー（PMセミナーセッション1）\n開催日程：2017/9/2 (土)　13:00-16:15\n参加費　：3\,000円(JSPE会員)、5\,000円(非会員)\n講師　　：阪井　敦　PE\, PMP\, JSPE理事\n副講師　：稲葉　光亮　PE\, PMP\, JSPE理事\nCPD&PDU：3PDHおよび3PDU or 3 Contact hoursを提供\n提供PDU : 3.0 Hr (Leadership 1.0 Hr\, Technical 1.0 Hr\, Strategic 1.0 Hr) \n講演題名：発注者側プロマネの視点とトラブル事例\nViewpoint and Trouble Cases of Project Manager on the Client side \n講演概要：講師は発注者側の立場でプロジェクト業務に15年携わり、最後の3年は発注者側のプロマネとして、化学プラント建設業務に従事した。その後に転職して、受注者側の立場でプロマネとしてプロジェクトに携わることになった。発注者側の立場では、プロジェクトの進捗や追加見積りなど、かなりの部分が受注者側に責任があると思っていたが、受注者側の立場になって過去を振り返ると、発注者側のプロマネとしても至らなかったことが多いように思う。また、受注側の立場では、発注者側の意図が正確に理解できていれば、トラブルも防止できたかもしれない。発注者、受注者の双方がお互いに相手の立場を知れば、プロジェクトは円滑に進めることができるのではないかと考えている。そこで、今回は、経験してきた発注者側の立場から、発注者および受注者の考え方の違いを述べ、発注者としてのプロマネ時代のトラブルを事例に議論を行いたい。 \n多数の会員、非会員の皆様のご参加をお待ちしております。 \n本会場（神戸）：兵庫県民会館（元町）\nサテライト会場（東京）：フォーラムミカサエコ（神田）\nセミナー終了後にはワンコイン懇親会も予定しております。 \nJSPE　企画部会　阪井敦\n教育部会　森山亮
URL:https://jspe.org/event/%e7%ac%ac294%e5%9b%9e%ef%bc%88%e7%a5%9e%e6%88%b8%e3%83%bb%e6%9d%b1%e4%ba%ac%ef%bc%89%e9%ac%bc%e9%87%91cpd%e3%82%bb%e3%83%9f%e3%83%8a%e3%83%bc-3/
CATEGORIES:鬼金案内
ATTACH;FMTTYPE=image/jpeg:https://jspe.org/wp-content/uploads/2018/02/presentation-icon_02.jpeg
END:VEVENT
BEGIN:VEVENT
DTSTART;TZID=Asia/Tokyo:20170923T103000
DTEND;TZID=Asia/Tokyo:20170923T163000
DTSTAMP:20260421T050902
CREATED:20180302T141945Z
LAST-MODIFIED:20180302T141945Z
UID:9690-1506162600-1506184200@jspe.org
SUMMARY:第295回JSPE Day 2017 「交通・輸送技術」/ JSPE Day 2017 \"Traffic/Transportation Technology\"
DESCRIPTION:JSPE Day 2017 「交通・輸送技術」参加者募集 \nJSPEでは、PE会員とPEN/FE/AF/ST会員および非会員とが、関東や関西といった地域の壁を越えてより幅広く技術交流を行えることを目的とした終日セミナー 「JSPE Day」 を実施しております。全セッション終了後は、東京会場、神戸会場それぞれでささやかな懇親会も行います。これからPEを取得しようとする方にとっては、先輩PEと親しく知り合えるチャンスでもあります。午前1.5h、午後3.5h、合計で最大5.0hのPDHを発行します。 \n皆様、どうぞ奮ってご参加下さい！ \n日時　　：2017年9月23日(土)　10:30-16:30　（16:30からワンコイン懇親会を行います）\n場所　　：東京会場：NSRIホール(飯田橋)\n神戸会場：兵庫県民会館（元町）　7F 亀の間\nプログラム\n10:00-10:30　受付 \n第一部\n10:30-10:45　開会挨拶、PE登録者の読み上げなど \n10:45-11:15　講演1\n西久保氏@神戸会場：NSPEアトランタ総会の参加報告とJSPEの役割\n/Annual meeting report on the PECON 2017 and JSPE roles \n11:15-12:00　講演2\n小野様@東京会場：航空機エンジンのマーケット概況ならびに技術動向\n/Market Overview of Aircraft Engines and Its Technology Trend \n第二部\n13:00-14:30　基調講演\n「安達氏@東京会場：自動運転技術の開発動向と課題\n/Development Trend and Issues of Automated Driving Technology」 \n14:30-14:45　休憩 \n14:45-15:15　講演3\n川村氏@神戸会場：オレゴン州における道路信号エシックス事例を考える\n/Traffic Signal Ethics case in Oregon State \n15:15-15:45　講演4\n松岡氏@東京会場：エレベーターの最新技術動向紹介（仮）\n/Leading-edge Technology of High Speed & Large capacity Elevator \n15:45-16:15　講演5\n市村氏@東京会場：コンテナターミナルの自動化（仮）\n/Container Terminal Planning & Automated Terminal \n16:15-16:30　閉会挨拶、その他（事務局連絡など） \nCPD　 ：5PDH（午前1.5PDH、午後3.5PDH）提供\n参加費 ：2\,500円（JSPE会員）、3\,500円（非会員）\nセミナー終了後にはワンコイン（500円）懇親会も予定しております。 \nJSPE企画部会、会員部会、教育部会
URL:https://jspe.org/event/jspe-day-2017-%e3%80%8c%e4%ba%a4%e9%80%9a%e3%83%bb%e8%bc%b8%e9%80%81%e6%8a%80%e8%a1%93%e3%80%8d-jspe-day-2017-traffic-transportation-technology-9-23-3/
CATEGORIES:技術セミナー案内
ATTACH;FMTTYPE=image/jpeg:https://jspe.org/wp-content/uploads/2018/02/presentation-icon_02.jpeg
END:VEVENT
BEGIN:VEVENT
DTSTART;TZID=Asia/Tokyo:20170923T103000
DTEND;TZID=Asia/Tokyo:20170923T163000
DTSTAMP:20260421T050902
CREATED:20180302T141945Z
LAST-MODIFIED:20180302T141945Z
UID:9049-1506162600-1506184200@jspe.org
SUMMARY:第295回JSPE Day 2017 「交通・輸送技術」/ JSPE Day 2017 \"Traffic/Transportation Technology\"
DESCRIPTION:JSPE Day 2017 「交通・輸送技術」参加者募集 \nJSPEでは、PE会員とPEN/FE/AF/ST会員および非会員とが、関東や関西といった地域の壁を越えてより幅広く技術交流を行えることを目的とした終日セミナー 「JSPE Day」 を実施しております。全セッション終了後は、東京会場、神戸会場それぞれでささやかな懇親会も行います。これからPEを取得しようとする方にとっては、先輩PEと親しく知り合えるチャンスでもあります。午前1.5h、午後3.5h、合計で最大5.0hのPDHを発行します。 \n皆様、どうぞ奮ってご参加下さい！ \n日時　　：2017年9月23日(土)　10:30-16:30　（16:30からワンコイン懇親会を行います）\n場所　　：東京会場：NSRIホール(飯田橋)\n神戸会場：兵庫県民会館（元町）　7F 亀の間\nプログラム\n10:00-10:30　受付 \n第一部\n10:30-10:45　開会挨拶、PE登録者の読み上げなど \n10:45-11:15　講演1\n西久保氏@神戸会場：NSPEアトランタ総会の参加報告とJSPEの役割\n/Annual meeting report on the PECON 2017 and JSPE roles \n11:15-12:00　講演2\n小野様@東京会場：航空機エンジンのマーケット概況ならびに技術動向\n/Market Overview of Aircraft Engines and Its Technology Trend \n第二部\n13:00-14:30　基調講演\n「安達氏@東京会場：自動運転技術の開発動向と課題\n/Development Trend and Issues of Automated Driving Technology」 \n14:30-14:45　休憩 \n14:45-15:15　講演3\n川村氏@神戸会場：オレゴン州における道路信号エシックス事例を考える\n/Traffic Signal Ethics case in Oregon State \n15:15-15:45　講演4\n松岡氏@東京会場：エレベーターの最新技術動向紹介（仮）\n/Leading-edge Technology of High Speed & Large capacity Elevator \n15:45-16:15　講演5\n市村氏@東京会場：コンテナターミナルの自動化（仮）\n/Container Terminal Planning & Automated Terminal \n16:15-16:30　閉会挨拶、その他（事務局連絡など） \nCPD　 ：5PDH（午前1.5PDH、午後3.5PDH）提供\n参加費 ：2\,500円（JSPE会員）、3\,500円（非会員）\nセミナー終了後にはワンコイン（500円）懇親会も予定しております。 \nJSPE企画部会、会員部会、教育部会
URL:https://jspe.org/event/jspe-day-2017-%e3%80%8c%e4%ba%a4%e9%80%9a%e3%83%bb%e8%bc%b8%e9%80%81%e6%8a%80%e8%a1%93%e3%80%8d-jspe-day-2017-traffic-transportation-technology-9-23-2/
CATEGORIES:技術セミナー案内
ATTACH;FMTTYPE=image/jpeg:https://jspe.org/wp-content/uploads/2018/02/presentation-icon_02.jpeg
END:VEVENT
BEGIN:VEVENT
DTSTART;TZID=Asia/Tokyo:20170923T103000
DTEND;TZID=Asia/Tokyo:20170923T163000
DTSTAMP:20260421T050902
CREATED:20180302T141945Z
LAST-MODIFIED:20180302T141945Z
UID:1104-1506162600-1506184200@jspe.org
SUMMARY:第295回JSPE Day 2017 「交通・輸送技術」/ JSPE Day 2017 "Traffic/Transportation Technology"
DESCRIPTION:JSPE Day 2017 「交通・輸送技術」参加者募集 \nJSPEでは、PE会員とPEN/FE/AF/ST会員および非会員とが、関東や関西といった地域の壁を越えてより幅広く技術交流を行えることを目的とした終日セミナー 「JSPE Day」 を実施しております。全セッション終了後は、東京会場、神戸会場それぞれでささやかな懇親会も行います。これからPEを取得しようとする方にとっては、先輩PEと親しく知り合えるチャンスでもあります。午前1.5h、午後3.5h、合計で最大5.0hのPDHを発行します。 \n皆様、どうぞ奮ってご参加下さい！ \n日時　　：2017年9月23日(土)　10:30-16:30　（16:30からワンコイン懇親会を行います）\n場所　　：東京会場：NSRIホール(飯田橋)\n神戸会場：兵庫県民会館（元町）　7F 亀の間\nプログラム\n10:00-10:30　受付 \n第一部\n10:30-10:45　開会挨拶、PE登録者の読み上げなど \n10:45-11:15　講演1\n西久保氏@神戸会場：NSPEアトランタ総会の参加報告とJSPEの役割\n/Annual meeting report on the PECON 2017 and JSPE roles \n11:15-12:00　講演2\n小野様@東京会場：航空機エンジンのマーケット概況ならびに技術動向\n/Market Overview of Aircraft Engines and Its Technology Trend \n第二部\n13:00-14:30　基調講演\n「安達氏@東京会場：自動運転技術の開発動向と課題\n/Development Trend and Issues of Automated Driving Technology」 \n14:30-14:45　休憩 \n14:45-15:15　講演3\n川村氏@神戸会場：オレゴン州における道路信号エシックス事例を考える\n/Traffic Signal Ethics case in Oregon State \n15:15-15:45　講演4\n松岡氏@東京会場：エレベーターの最新技術動向紹介（仮）\n/Leading-edge Technology of High Speed & Large capacity Elevator \n15:45-16:15　講演5\n市村氏@東京会場：コンテナターミナルの自動化（仮）\n/Container Terminal Planning & Automated Terminal \n16:15-16:30　閉会挨拶、その他（事務局連絡など） \nCPD　 ：5PDH（午前1.5PDH、午後3.5PDH）提供\n参加費 ：2\,500円（JSPE会員）、3\,500円（非会員）\nセミナー終了後にはワンコイン（500円）懇親会も予定しております。 \nJSPE企画部会、会員部会、教育部会
URL:https://jspe.org/event/jspe-day-2017-%e3%80%8c%e4%ba%a4%e9%80%9a%e3%83%bb%e8%bc%b8%e9%80%81%e6%8a%80%e8%a1%93%e3%80%8d-jspe-day-2017-traffic-transportation-technology-9-23/
CATEGORIES:技術セミナー案内
ATTACH;FMTTYPE=image/jpeg:https://jspe.org/wp-content/uploads/2018/02/presentation-icon_02.jpeg
END:VEVENT
END:VCALENDAR