BEGIN:VCALENDAR
VERSION:2.0
PRODID:-//日本プロフェッショナルエンジニア協会 - ECPv6.10.0//NONSGML v1.0//EN
CALSCALE:GREGORIAN
METHOD:PUBLISH
X-ORIGINAL-URL:https://jspe.org
X-WR-CALDESC:日本プロフェッショナルエンジニア協会 のイベント
REFRESH-INTERVAL;VALUE=DURATION:PT1H
X-Robots-Tag:noindex
X-PUBLISHED-TTL:PT1H
BEGIN:VTIMEZONE
TZID:Asia/Tokyo
BEGIN:STANDARD
TZOFFSETFROM:+0900
TZOFFSETTO:+0900
TZNAME:JST
DTSTART:20170101T000000
END:STANDARD
END:VTIMEZONE
BEGIN:VEVENT
DTSTART;TZID=Asia/Tokyo:20170805T133000
DTEND;TZID=Asia/Tokyo:20170805T153000
DTSTAMP:20260421T070410
CREATED:20180302T143305Z
LAST-MODIFIED:20180302T143305Z
UID:9695-1501939800-1501947000@jspe.org
SUMMARY:第1回（東京・神戸）戦略エンジニアズサロン
DESCRIPTION:第1回（東京・神戸）戦略エンジニアズサロン (8/5) \nJSPEでは、去る6月10日の総会において次のような年度活動方針を定めました。この中で『「倫理」と「国際化」の能力向上に重点を置いたCPDセミナー展開』としている部分については、ともすれば倫理の説教に終始してしまう、国内での実状から浮いた国際化の議論が先行してしまう　といった課題に担当理事としても頭を悩ませており、今年度のセミナー、サロン活動を本格化させる前に、一度有志会員のみなさまとも忌憚のない意見交換をさせて頂ければと考えております。　ついては、「戦略エンジニアサロン」と題してお盆休み直前の8月5日に理事と会員とが交流する場を設けますので、奮ってのご参加お待ちしております \n2017年度　活動方針\n技術分野をまたぐ、つなぐ\nCross and Bridge Technical Discipline\n・「倫理」と「国際化」の能力向上に重点を置いたCPDセミナーの展開\n・米国PEライセンス取得促進活動の継続\n・対外交流の継続と対外発信の増加\n・理事業務の効率化と会内諸活動間の連動強化 \n第1回（東京・神戸）戦略エンジニアズサロン\n開催日程：2017/8/5(土)　13:30-15:30\n参加費　：無料\nCPD：希望者にはActive participation in professional societiesに該当する2時間分のCPD証を発行します。
URL:https://jspe.org/event/%e7%ac%ac1%e5%9b%9e%ef%bc%88%e6%9d%b1%e4%ba%ac%e3%83%bb%e7%a5%9e%e6%88%b8%ef%bc%89%e6%88%a6%e7%95%a5%e3%82%a8%e3%83%b3%e3%82%b8%e3%83%8b%e3%82%a2%e3%82%ba%e3%82%b5%e3%83%ad%e3%83%b3-8-5-3/
CATEGORIES:サロン案内
ATTACH;FMTTYPE=image/jpeg:https://jspe.org/wp-content/uploads/2018/02/salon-icon_02.jpeg
END:VEVENT
BEGIN:VEVENT
DTSTART;TZID=Asia/Tokyo:20170805T133000
DTEND;TZID=Asia/Tokyo:20170805T153000
DTSTAMP:20260421T070410
CREATED:20180302T143305Z
LAST-MODIFIED:20180302T143305Z
UID:1110-1501939800-1501947000@jspe.org
SUMMARY:第1回（東京・神戸）戦略エンジニアズサロン
DESCRIPTION:第1回（東京・神戸）戦略エンジニアズサロン (8/5) \nJSPEでは、去る6月10日の総会において次のような年度活動方針を定めました。この中で『「倫理」と「国際化」の能力向上に重点を置いたCPDセミナー展開』としている部分については、ともすれば倫理の説教に終始してしまう、国内での実状から浮いた国際化の議論が先行してしまう　といった課題に担当理事としても頭を悩ませており、今年度のセミナー、サロン活動を本格化させる前に、一度有志会員のみなさまとも忌憚のない意見交換をさせて頂ければと考えております。　ついては、「戦略エンジニアサロン」と題してお盆休み直前の8月5日に理事と会員とが交流する場を設けますので、奮ってのご参加お待ちしております \n2017年度　活動方針\n技術分野をまたぐ、つなぐ\nCross and Bridge Technical Discipline\n・「倫理」と「国際化」の能力向上に重点を置いたCPDセミナーの展開\n・米国PEライセンス取得促進活動の継続\n・対外交流の継続と対外発信の増加\n・理事業務の効率化と会内諸活動間の連動強化 \n第1回（東京・神戸）戦略エンジニアズサロン\n開催日程：2017/8/5(土)　13:30-15:30\n参加費　：無料\nCPD：希望者にはActive participation in professional societiesに該当する2時間分のCPD証を発行します。
URL:https://jspe.org/event/%e7%ac%ac1%e5%9b%9e%ef%bc%88%e6%9d%b1%e4%ba%ac%e3%83%bb%e7%a5%9e%e6%88%b8%ef%bc%89%e6%88%a6%e7%95%a5%e3%82%a8%e3%83%b3%e3%82%b8%e3%83%8b%e3%82%a2%e3%82%ba%e3%82%b5%e3%83%ad%e3%83%b3-8-5/
CATEGORIES:サロン案内
ATTACH;FMTTYPE=image/jpeg:https://jspe.org/wp-content/uploads/2018/02/salon-icon_02.jpeg
END:VEVENT
BEGIN:VEVENT
DTSTART;TZID=Asia/Tokyo:20170805T133000
DTEND;TZID=Asia/Tokyo:20170805T153000
DTSTAMP:20260421T070410
CREATED:20180302T143305Z
LAST-MODIFIED:20180302T143305Z
UID:9054-1501939800-1501947000@jspe.org
SUMMARY:第1回（東京・神戸）戦略エンジニアズサロン
DESCRIPTION:第1回（東京・神戸）戦略エンジニアズサロン (8/5) \nJSPEでは、去る6月10日の総会において次のような年度活動方針を定めました。この中で『「倫理」と「国際化」の能力向上に重点を置いたCPDセミナー展開』としている部分については、ともすれば倫理の説教に終始してしまう、国内での実状から浮いた国際化の議論が先行してしまう　といった課題に担当理事としても頭を悩ませており、今年度のセミナー、サロン活動を本格化させる前に、一度有志会員のみなさまとも忌憚のない意見交換をさせて頂ければと考えております。　ついては、「戦略エンジニアサロン」と題してお盆休み直前の8月5日に理事と会員とが交流する場を設けますので、奮ってのご参加お待ちしております \n2017年度　活動方針\n技術分野をまたぐ、つなぐ\nCross and Bridge Technical Discipline\n・「倫理」と「国際化」の能力向上に重点を置いたCPDセミナーの展開\n・米国PEライセンス取得促進活動の継続\n・対外交流の継続と対外発信の増加\n・理事業務の効率化と会内諸活動間の連動強化 \n第1回（東京・神戸）戦略エンジニアズサロン\n開催日程：2017/8/5(土)　13:30-15:30\n参加費　：無料\nCPD：希望者にはActive participation in professional societiesに該当する2時間分のCPD証を発行します。
URL:https://jspe.org/event/%e7%ac%ac1%e5%9b%9e%ef%bc%88%e6%9d%b1%e4%ba%ac%e3%83%bb%e7%a5%9e%e6%88%b8%ef%bc%89%e6%88%a6%e7%95%a5%e3%82%a8%e3%83%b3%e3%82%b8%e3%83%8b%e3%82%a2%e3%82%ba%e3%82%b5%e3%83%ad%e3%83%b3-8-5-2/
CATEGORIES:サロン案内
ATTACH;FMTTYPE=image/jpeg:https://jspe.org/wp-content/uploads/2018/02/salon-icon_02.jpeg
END:VEVENT
END:VCALENDAR