BEGIN:VCALENDAR
VERSION:2.0
PRODID:-//日本プロフェッショナルエンジニア協会 - ECPv6.10.0//NONSGML v1.0//EN
CALSCALE:GREGORIAN
METHOD:PUBLISH
X-WR-CALNAME:日本プロフェッショナルエンジニア協会
X-ORIGINAL-URL:https://jspe.org
X-WR-CALDESC:日本プロフェッショナルエンジニア協会 のイベント
REFRESH-INTERVAL;VALUE=DURATION:PT1H
X-Robots-Tag:noindex
X-PUBLISHED-TTL:PT1H
BEGIN:VTIMEZONE
TZID:Asia/Tokyo
BEGIN:STANDARD
TZOFFSETFROM:+0900
TZOFFSETTO:+0900
TZNAME:JST
DTSTART:20170101T000000
END:STANDARD
END:VTIMEZONE
BEGIN:VEVENT
DTSTART;VALUE=DATE:20170701
DTEND;VALUE=DATE:20170702
DTSTAMP:20260421T085003
CREATED:20180413T070307Z
LAST-MODIFIED:20180413T070307Z
UID:9710-1498867200-1498953599@jspe.org
SUMMARY:JSPEマガジンVol.38（2017 July）/JSPE Magazine
DESCRIPTION:JSPEマガジン夏号発行
URL:https://jspe.org/event/jspe%e3%83%9e%e3%82%ac%e3%82%b8%e3%83%b3vol-38%ef%bc%882017-july%ef%bc%89-jspe-magazine-3/
CATEGORIES:マガジン案内
ATTACH;FMTTYPE=image/jpeg:https://jspe.org/wp-content/uploads/2018/02/book-icon.jpeg
END:VEVENT
BEGIN:VEVENT
DTSTART;VALUE=DATE:20170701
DTEND;VALUE=DATE:20170702
DTSTAMP:20260421T085003
CREATED:20180413T070307Z
LAST-MODIFIED:20180413T070307Z
UID:9069-1498867200-1498953599@jspe.org
SUMMARY:JSPEマガジンVol.38（2017 July）/JSPE Magazine
DESCRIPTION:JSPEマガジン夏号発行
URL:https://jspe.org/event/jspe%e3%83%9e%e3%82%ac%e3%82%b8%e3%83%b3vol-38%ef%bc%882017-july%ef%bc%89-jspe-magazine-2/
CATEGORIES:マガジン案内
ATTACH;FMTTYPE=image/jpeg:https://jspe.org/wp-content/uploads/2018/02/book-icon.jpeg
END:VEVENT
BEGIN:VEVENT
DTSTART;TZID=Asia/Tokyo:20170712T190000
DTEND;TZID=Asia/Tokyo:20170712T210000
DTSTAMP:20260421T085003
CREATED:20180302T143140Z
LAST-MODIFIED:20180302T143140Z
UID:1109-1499886000-1499893200@jspe.org
SUMMARY:2017年度 第2回エンジニアズサロン/FY2017 2nd Engineer's Salon
DESCRIPTION:2017年度第2回エンジニアズサロン（ES）開催のお知らせ\n \n今回は、「建築物の品質保証」をテーマに、元大林組の小松義明氏から話題提供いただき、ディスカッションしたいと思います。\n近年、建築設計、施工に関して姉歯事件の不適切な設計、横浜杭事件の不正な施工問題などが発生しています。これらの事件を振り返り建築物の品質保証について考えます。併せて、熊本地震などの強震度の地震が相次ぐ中で、採用が進んでいる免振建物に関する設計面での懸念を提起いたします。奮ってご参加願います。 \n【第2回エンジニアズサロン】\n日時：2017年7月12日（水）　19:00－21:00\n場所：溜池山王事務所\n講師：小松義明氏（元大林組、元国士舘大学建築学科非常勤講師）\nテーマ：建築物の品質保証　 ――　事件と大震災からの教訓　――\n会費：1\,000円（懇親会費込）\n定員：10名程度（事務局含む） \nES実行メンバー　山浦良久、森山亮、渋谷高広
URL:https://jspe.org/event/%e7%ac%ac2%e5%9b%9e2017%e5%b9%b4%e5%ba%a6%e3%82%a8%e3%83%b3%e3%82%b8%e3%83%8b%e3%82%a2%e3%82%ba%e3%82%b5%e3%83%ad%e3%83%b3%ef%bc%88es%ef%bc%89%e9%96%8b%e5%82%ac%e3%81%ae%e3%81%8a%e7%9f%a5%e3%82%89/
CATEGORIES:サロン案内
ATTACH;FMTTYPE=image/jpeg:https://jspe.org/wp-content/uploads/2018/02/salon-icon_02.jpeg
END:VEVENT
BEGIN:VEVENT
DTSTART;TZID=Asia/Tokyo:20170712T190000
DTEND;TZID=Asia/Tokyo:20170712T210000
DTSTAMP:20260421T085003
CREATED:20180302T143140Z
LAST-MODIFIED:20180302T143140Z
UID:9694-1499886000-1499893200@jspe.org
SUMMARY:2017年度 第2回エンジニアズサロン/FY2017 2nd Engineer\'s Salon
DESCRIPTION:2017年度第2回エンジニアズサロン（ES）開催のお知らせ\n \n今回は、「建築物の品質保証」をテーマに、元大林組の小松義明氏から話題提供いただき、ディスカッションしたいと思います。\n近年、建築設計、施工に関して姉歯事件の不適切な設計、横浜杭事件の不正な施工問題などが発生しています。これらの事件を振り返り建築物の品質保証について考えます。併せて、熊本地震などの強震度の地震が相次ぐ中で、採用が進んでいる免振建物に関する設計面での懸念を提起いたします。奮ってご参加願います。 \n【第2回エンジニアズサロン】\n日時：2017年7月12日（水）　19:00－21:00\n場所：溜池山王事務所\n講師：小松義明氏（元大林組、元国士舘大学建築学科非常勤講師）\nテーマ：建築物の品質保証　 ――　事件と大震災からの教訓　――\n会費：1\,000円（懇親会費込）\n定員：10名程度（事務局含む） \nES実行メンバー　山浦良久、森山亮、渋谷高広
URL:https://jspe.org/event/%e7%ac%ac2%e5%9b%9e2017%e5%b9%b4%e5%ba%a6%e3%82%a8%e3%83%b3%e3%82%b8%e3%83%8b%e3%82%a2%e3%82%ba%e3%82%b5%e3%83%ad%e3%83%b3%ef%bc%88es%ef%bc%89%e9%96%8b%e5%82%ac%e3%81%ae%e3%81%8a%e7%9f%a5%e3%82%89-3/
CATEGORIES:サロン案内
ATTACH;FMTTYPE=image/jpeg:https://jspe.org/wp-content/uploads/2018/02/salon-icon_02.jpeg
END:VEVENT
BEGIN:VEVENT
DTSTART;TZID=Asia/Tokyo:20170712T190000
DTEND;TZID=Asia/Tokyo:20170712T210000
DTSTAMP:20260421T085003
CREATED:20180302T143140Z
LAST-MODIFIED:20180302T143140Z
UID:9053-1499886000-1499893200@jspe.org
SUMMARY:2017年度 第2回エンジニアズサロン/FY2017 2nd Engineer\'s Salon
DESCRIPTION:2017年度第2回エンジニアズサロン（ES）開催のお知らせ\n \n今回は、「建築物の品質保証」をテーマに、元大林組の小松義明氏から話題提供いただき、ディスカッションしたいと思います。\n近年、建築設計、施工に関して姉歯事件の不適切な設計、横浜杭事件の不正な施工問題などが発生しています。これらの事件を振り返り建築物の品質保証について考えます。併せて、熊本地震などの強震度の地震が相次ぐ中で、採用が進んでいる免振建物に関する設計面での懸念を提起いたします。奮ってご参加願います。 \n【第2回エンジニアズサロン】\n日時：2017年7月12日（水）　19:00－21:00\n場所：溜池山王事務所\n講師：小松義明氏（元大林組、元国士舘大学建築学科非常勤講師）\nテーマ：建築物の品質保証　 ――　事件と大震災からの教訓　――\n会費：1\,000円（懇親会費込）\n定員：10名程度（事務局含む） \nES実行メンバー　山浦良久、森山亮、渋谷高広
URL:https://jspe.org/event/%e7%ac%ac2%e5%9b%9e2017%e5%b9%b4%e5%ba%a6%e3%82%a8%e3%83%b3%e3%82%b8%e3%83%8b%e3%82%a2%e3%82%ba%e3%82%b5%e3%83%ad%e3%83%b3%ef%bc%88es%ef%bc%89%e9%96%8b%e5%82%ac%e3%81%ae%e3%81%8a%e7%9f%a5%e3%82%89-2/
CATEGORIES:サロン案内
ATTACH;FMTTYPE=image/jpeg:https://jspe.org/wp-content/uploads/2018/02/salon-icon_02.jpeg
END:VEVENT
BEGIN:VEVENT
DTSTART;VALUE=DATE:20170719
DTEND;VALUE=DATE:20170724
DTSTAMP:20260421T085003
CREATED:20180302T141135Z
LAST-MODIFIED:20180302T141135Z
UID:1099-1500422400-1500854399@jspe.org
SUMMARY:NSPE 2017 Professional Engineers Conference
DESCRIPTION:From July 19–23 in Atlanta\, Georgia NSPE members enjoyed an exciting week full of exceptional education programs\, speakers\, and great networking. \nHere are the conference highlights… \nEducation & Training\nJust in case you missed a session during the conference\, all presentations will be added to the 2017 PE Conference Community within the NSPE Communities! \nThis year the following courses were approved by The Practicing Institute of Engineering\, or PIE\, for New York State professional development hours (PDHs): \n\nCyber Security for Critical Infrastructures: Challenges and Solutions;\nDiscovery of Water Heath Problems in the Flint Water Crisis and Associated Future Ethical Implications;\nEthics and Engineering\nThe Future of Engineering in the Cognitive Computing Era;\nGoing Digital: Digital Signatures and Digital Document Delivery;\nIntroduction to Microgrids for Commercial and Humanitarian Needs; and\,\nSelf-Driving Cars: An Examination of Ethical Issues at the Micro and Macro Scale.\n\nPlease refer to the conference program for information about 15 PDH opportunities offered over two days during education sessions.
URL:https://jspe.org/event/pecon2017/
LOCATION:200803_Board_Minutes
CATEGORIES:イベント案内
ATTACH;FMTTYPE=image/png:https://jspe.org/wp-content/uploads/2018/03/PE-Conference_2017.png
END:VEVENT
BEGIN:VEVENT
DTSTART;VALUE=DATE:20170719
DTEND;VALUE=DATE:20170724
DTSTAMP:20260421T085003
CREATED:20180302T141135Z
LAST-MODIFIED:20180302T141135Z
UID:9687-1500422400-1500854399@jspe.org
SUMMARY:NSPE 2017 Professional Engineers Conference
DESCRIPTION:From July 19–23 in Atlanta\, Georgia NSPE members enjoyed an exciting week full of exceptional education programs\, speakers\, and great networking. \nHere are the conference highlights… \nEducation & Training\nJust in case you missed a session during the conference\, all presentations will be added to the 2017 PE Conference Community within the NSPE Communities! \nThis year the following courses were approved by The Practicing Institute of Engineering\, or PIE\, for New York State professional development hours (PDHs): \n\nCyber Security for Critical Infrastructures: Challenges and Solutions;\nDiscovery of Water Heath Problems in the Flint Water Crisis and Associated Future Ethical Implications;\nEthics and Engineering\nThe Future of Engineering in the Cognitive Computing Era;\nGoing Digital: Digital Signatures and Digital Document Delivery;\nIntroduction to Microgrids for Commercial and Humanitarian Needs; and\,\nSelf-Driving Cars: An Examination of Ethical Issues at the Micro and Macro Scale.\n\nPlease refer to the conference program for information about 15 PDH opportunities offered over two days during education sessions.
URL:https://jspe.org/event/pecon2017-3/
LOCATION:200803_Board_Minutes
CATEGORIES:イベント案内
ATTACH;FMTTYPE=image/png:https://jspe.org/wp-content/uploads/2018/03/PE-Conference_2017.png
END:VEVENT
BEGIN:VEVENT
DTSTART;VALUE=DATE:20170719
DTEND;VALUE=DATE:20170724
DTSTAMP:20260421T085003
CREATED:20180302T141135Z
LAST-MODIFIED:20180302T141135Z
UID:9046-1500422400-1500854399@jspe.org
SUMMARY:NSPE 2017 Professional Engineers Conference
DESCRIPTION:From July 19–23 in Atlanta\, Georgia NSPE members enjoyed an exciting week full of exceptional education programs\, speakers\, and great networking. \nHere are the conference highlights… \nEducation & Training\nJust in case you missed a session during the conference\, all presentations will be added to the 2017 PE Conference Community within the NSPE Communities! \nThis year the following courses were approved by The Practicing Institute of Engineering\, or PIE\, for New York State professional development hours (PDHs): \n\nCyber Security for Critical Infrastructures: Challenges and Solutions;\nDiscovery of Water Heath Problems in the Flint Water Crisis and Associated Future Ethical Implications;\nEthics and Engineering\nThe Future of Engineering in the Cognitive Computing Era;\nGoing Digital: Digital Signatures and Digital Document Delivery;\nIntroduction to Microgrids for Commercial and Humanitarian Needs; and\,\nSelf-Driving Cars: An Examination of Ethical Issues at the Micro and Macro Scale.\n\nPlease refer to the conference program for information about 15 PDH opportunities offered over two days during education sessions.
URL:https://jspe.org/event/pecon2017-2/
LOCATION:200803_Board_Minutes
CATEGORIES:イベント案内
ATTACH;FMTTYPE=image/png:https://jspe.org/wp-content/uploads/2018/03/PE-Conference_2017.png
END:VEVENT
BEGIN:VEVENT
DTSTART;TZID=Asia/Tokyo:20170729T130000
DTEND;TZID=Asia/Tokyo:20170729T161500
DTSTAMP:20260421T085003
CREATED:20180302T141412Z
LAST-MODIFIED:20180302T141412Z
UID:1102-1501333200-1501344900@jspe.org
SUMMARY:第293回（東京・神戸）鬼金CPDセミナー/293rd Onikin CPD seminar
DESCRIPTION:第293回（東京・神戸）鬼金CPDセミナー \nJSPEは米国プロジェクトマネジメント協会の登録教育事業者として、プロジェクトマネジメントに関するセミナー(鬼金セミナー)を開催しています。 \n本セミナーでは(PMBOK® Guide) 5th Edition\, Project Management Institute\, Inc.\,2013.を教科書として、6セミナー×3h＝18hを予定しており、\nセミナー参加者には、Professional Engineer(PE)に必要な継続学習時間(PDH)やProject Management Professional(PMP)®必要な継続学習時間(PDU)が発行されます。 \n【鬼金CPDセミナー（PMセミナーセッション1）】\n開催日程：2017/7/29(土)　13:00-16:15\n参加費　：3\,000円(JSPE会員)、5\,000円(非会員)\n講師　　：稲葉　光亮　PE\, PMP\, JSPE理事\n副講師　：阪井　敦　PE\, PMP\, JSPE理事\nCPD&PDU：3PDHおよび3PDU or 3 Contact hoursを提供\n提供PDU : 3.0 Hr (Leadership 1.0 Hr\, Technical 1.0 Hr\, Strategic 1.0 Hr) \n講演題名：スケジュールマネジメト‐プラント建設を例に\nSchedule Management‐Focusing on Plant Construction \n講演概要：PMBOK® 5th Editionの第6項「プロジェクト・タイム・マネジメント」をベースにしたセミナーを行います。\nセミナーでは、PMBOK®における内容と合わせ、講師が所属しているプラント建設部門にて経験した事例紹介を行います。\n予備知識は必要ありませんが、経験や判断に関する一般的な状況を想定したケーススタディを紹介します。\nまた、受講者同士による討議・発表もあり、それぞれについて、およそ同程度の割合を想定したセミナーを予定しております。 \n多数の会員、非会員の皆様のご参加をお待ちしております。 \n本会場（東京）：NSRIホール(飯田橋)\nサテライト会場（神戸）：兵庫県民会館(元町)\nセミナー終了後にはワンコイン懇親会も予定しております。 \n  \nJSPE　企画部会　阪井敦\n教育部会　森山亮
URL:https://jspe.org/event/%e7%ac%ac293%e5%9b%9e%ef%bc%88%e6%9d%b1%e4%ba%ac%e3%83%bb%e7%a5%9e%e6%88%b8%ef%bc%89%e9%ac%bc%e9%87%91cpd%e3%82%bb%e3%83%9f%e3%83%8a%e3%83%bc-7-29-pm-cpd-seminar/
CATEGORIES:鬼金案内
ATTACH;FMTTYPE=image/jpeg:https://jspe.org/wp-content/uploads/2018/02/presentation-icon_02.jpeg
END:VEVENT
BEGIN:VEVENT
DTSTART;TZID=Asia/Tokyo:20170729T130000
DTEND;TZID=Asia/Tokyo:20170729T161500
DTSTAMP:20260421T085003
CREATED:20180302T141412Z
LAST-MODIFIED:20180302T141412Z
UID:9688-1501333200-1501344900@jspe.org
SUMMARY:第293回（東京・神戸）鬼金CPDセミナー/293rd Onikin CPD seminar
DESCRIPTION:第293回（東京・神戸）鬼金CPDセミナー \nJSPEは米国プロジェクトマネジメント協会の登録教育事業者として、プロジェクトマネジメントに関するセミナー(鬼金セミナー)を開催しています。 \n本セミナーでは(PMBOK® Guide) 5th Edition\, Project Management Institute\, Inc.\,2013.を教科書として、6セミナー×3h＝18hを予定しており、\nセミナー参加者には、Professional Engineer(PE)に必要な継続学習時間(PDH)やProject Management Professional(PMP)®必要な継続学習時間(PDU)が発行されます。 \n【鬼金CPDセミナー（PMセミナーセッション1）】\n開催日程：2017/7/29(土)　13:00-16:15\n参加費　：3\,000円(JSPE会員)、5\,000円(非会員)\n講師　　：稲葉　光亮　PE\, PMP\, JSPE理事\n副講師　：阪井　敦　PE\, PMP\, JSPE理事\nCPD&PDU：3PDHおよび3PDU or 3 Contact hoursを提供\n提供PDU : 3.0 Hr (Leadership 1.0 Hr\, Technical 1.0 Hr\, Strategic 1.0 Hr) \n講演題名：スケジュールマネジメト‐プラント建設を例に\nSchedule Management‐Focusing on Plant Construction \n講演概要：PMBOK® 5th Editionの第6項「プロジェクト・タイム・マネジメント」をベースにしたセミナーを行います。\nセミナーでは、PMBOK®における内容と合わせ、講師が所属しているプラント建設部門にて経験した事例紹介を行います。\n予備知識は必要ありませんが、経験や判断に関する一般的な状況を想定したケーススタディを紹介します。\nまた、受講者同士による討議・発表もあり、それぞれについて、およそ同程度の割合を想定したセミナーを予定しております。 \n多数の会員、非会員の皆様のご参加をお待ちしております。 \n本会場（東京）：NSRIホール(飯田橋)\nサテライト会場（神戸）：兵庫県民会館(元町)\nセミナー終了後にはワンコイン懇親会も予定しております。 \n  \nJSPE　企画部会　阪井敦\n教育部会　森山亮
URL:https://jspe.org/event/%e7%ac%ac293%e5%9b%9e%ef%bc%88%e6%9d%b1%e4%ba%ac%e3%83%bb%e7%a5%9e%e6%88%b8%ef%bc%89%e9%ac%bc%e9%87%91cpd%e3%82%bb%e3%83%9f%e3%83%8a%e3%83%bc-7-29-pm-cpd-seminar-3/
CATEGORIES:鬼金案内
ATTACH;FMTTYPE=image/jpeg:https://jspe.org/wp-content/uploads/2018/02/presentation-icon_02.jpeg
END:VEVENT
BEGIN:VEVENT
DTSTART;TZID=Asia/Tokyo:20170729T130000
DTEND;TZID=Asia/Tokyo:20170729T161500
DTSTAMP:20260421T085003
CREATED:20180302T141412Z
LAST-MODIFIED:20180302T141412Z
UID:9047-1501333200-1501344900@jspe.org
SUMMARY:第293回（東京・神戸）鬼金CPDセミナー/293rd Onikin CPD seminar
DESCRIPTION:第293回（東京・神戸）鬼金CPDセミナー \nJSPEは米国プロジェクトマネジメント協会の登録教育事業者として、プロジェクトマネジメントに関するセミナー(鬼金セミナー)を開催しています。 \n本セミナーでは(PMBOK® Guide) 5th Edition\, Project Management Institute\, Inc.\,2013.を教科書として、6セミナー×3h＝18hを予定しており、\nセミナー参加者には、Professional Engineer(PE)に必要な継続学習時間(PDH)やProject Management Professional(PMP)®必要な継続学習時間(PDU)が発行されます。 \n【鬼金CPDセミナー（PMセミナーセッション1）】\n開催日程：2017/7/29(土)　13:00-16:15\n参加費　：3\,000円(JSPE会員)、5\,000円(非会員)\n講師　　：稲葉　光亮　PE\, PMP\, JSPE理事\n副講師　：阪井　敦　PE\, PMP\, JSPE理事\nCPD&PDU：3PDHおよび3PDU or 3 Contact hoursを提供\n提供PDU : 3.0 Hr (Leadership 1.0 Hr\, Technical 1.0 Hr\, Strategic 1.0 Hr) \n講演題名：スケジュールマネジメト‐プラント建設を例に\nSchedule Management‐Focusing on Plant Construction \n講演概要：PMBOK® 5th Editionの第6項「プロジェクト・タイム・マネジメント」をベースにしたセミナーを行います。\nセミナーでは、PMBOK®における内容と合わせ、講師が所属しているプラント建設部門にて経験した事例紹介を行います。\n予備知識は必要ありませんが、経験や判断に関する一般的な状況を想定したケーススタディを紹介します。\nまた、受講者同士による討議・発表もあり、それぞれについて、およそ同程度の割合を想定したセミナーを予定しております。 \n多数の会員、非会員の皆様のご参加をお待ちしております。 \n本会場（東京）：NSRIホール(飯田橋)\nサテライト会場（神戸）：兵庫県民会館(元町)\nセミナー終了後にはワンコイン懇親会も予定しております。 \n  \nJSPE　企画部会　阪井敦\n教育部会　森山亮
URL:https://jspe.org/event/%e7%ac%ac293%e5%9b%9e%ef%bc%88%e6%9d%b1%e4%ba%ac%e3%83%bb%e7%a5%9e%e6%88%b8%ef%bc%89%e9%ac%bc%e9%87%91cpd%e3%82%bb%e3%83%9f%e3%83%8a%e3%83%bc-7-29-pm-cpd-seminar-2/
CATEGORIES:鬼金案内
ATTACH;FMTTYPE=image/jpeg:https://jspe.org/wp-content/uploads/2018/02/presentation-icon_02.jpeg
END:VEVENT
END:VCALENDAR