BEGIN:VCALENDAR
VERSION:2.0
PRODID:-//日本プロフェッショナルエンジニア協会 - ECPv6.10.0//NONSGML v1.0//EN
CALSCALE:GREGORIAN
METHOD:PUBLISH
X-WR-CALNAME:日本プロフェッショナルエンジニア協会
X-ORIGINAL-URL:https://jspe.org
X-WR-CALDESC:日本プロフェッショナルエンジニア協会 のイベント
REFRESH-INTERVAL;VALUE=DURATION:PT1H
X-Robots-Tag:noindex
X-PUBLISHED-TTL:PT1H
BEGIN:VTIMEZONE
TZID:Asia/Tokyo
BEGIN:STANDARD
TZOFFSETFROM:+0900
TZOFFSETTO:+0900
TZNAME:JST
DTSTART:20190101T000000
END:STANDARD
END:VTIMEZONE
BEGIN:VEVENT
DTSTART;TZID=Asia/Tokyo:20190622T133000
DTEND;TZID=Asia/Tokyo:20190622T153000
DTSTAMP:20260420T152309
CREATED:20190321T014605Z
LAST-MODIFIED:20190321T014605Z
UID:9748-1561210200-1561217400@jspe.org
SUMMARY:【中止連絡】第313回関西技術セミナー/313th Kansai Technical CPD seminar
DESCRIPTION:6/22の本イベントは、同日開催の「関西ものづくり見学会」に変更となりましたので、ご注意ください。
URL:https://jspe.org/event/313th-kansai-technical-cpd-seminar-3/
CATEGORIES:技術セミナー案内
ATTACH;FMTTYPE=image/jpeg:https://jspe.org/wp-content/uploads/2018/02/presentation-icon_02-1.jpeg
END:VEVENT
BEGIN:VEVENT
DTSTART;TZID=Asia/Tokyo:20190622T133000
DTEND;TZID=Asia/Tokyo:20190622T153000
DTSTAMP:20260420T152309
CREATED:20190321T014605Z
LAST-MODIFIED:20190321T014605Z
UID:2574-1561210200-1561217400@jspe.org
SUMMARY:【中止連絡】第313回関西技術セミナー/313th Kansai Technical CPD seminar
DESCRIPTION:6/22の本イベントは、同日開催の「関西ものづくり見学会」に変更となりましたので、ご注意ください。
URL:https://jspe.org/event/313th-kansai-technical-cpd-seminar/
CATEGORIES:技術セミナー案内
ATTACH;FMTTYPE=image/jpeg:https://jspe.org/wp-content/uploads/2018/02/presentation-icon_02-1.jpeg
END:VEVENT
BEGIN:VEVENT
DTSTART;TZID=Asia/Tokyo:20190622T133000
DTEND;TZID=Asia/Tokyo:20190622T153000
DTSTAMP:20260420T152309
CREATED:20190321T014605Z
LAST-MODIFIED:20190321T014605Z
UID:9107-1561210200-1561217400@jspe.org
SUMMARY:【中止連絡】第313回関西技術セミナー/313th Kansai Technical CPD seminar
DESCRIPTION:6/22の本イベントは、同日開催の「関西ものづくり見学会」に変更となりましたので、ご注意ください。
URL:https://jspe.org/event/313th-kansai-technical-cpd-seminar-2/
CATEGORIES:技術セミナー案内
ATTACH;FMTTYPE=image/jpeg:https://jspe.org/wp-content/uploads/2018/02/presentation-icon_02-1.jpeg
END:VEVENT
END:VCALENDAR