BEGIN:VCALENDAR
VERSION:2.0
PRODID:-//日本プロフェッショナルエンジニア協会 - ECPv6.10.0//NONSGML v1.0//EN
CALSCALE:GREGORIAN
METHOD:PUBLISH
X-ORIGINAL-URL:https://jspe.org
X-WR-CALDESC:日本プロフェッショナルエンジニア協会 のイベント
REFRESH-INTERVAL;VALUE=DURATION:PT1H
X-Robots-Tag:noindex
X-PUBLISHED-TTL:PT1H
BEGIN:VTIMEZONE
TZID:Asia/Tokyo
BEGIN:STANDARD
TZOFFSETFROM:+0900
TZOFFSETTO:+0900
TZNAME:JST
DTSTART:20180101T000000
END:STANDARD
END:VTIMEZONE
BEGIN:VEVENT
DTSTART;TZID=Asia/Tokyo:20180904T190000
DTEND;TZID=Asia/Tokyo:20180904T210000
DTSTAMP:20260420T112150
CREATED:20180413T072137Z
LAST-MODIFIED:20180413T072137Z
UID:9714-1536087600-1536094800@jspe.org
SUMMARY:2018年度 第3回エンジニアズサロン/FY2018 3rd Engineer’s Salon
DESCRIPTION:2018年度第3回エンジニアズサロン（ES）開催のお知らせ \n今回は、「engineering leadership」をテーマに、ワシントン大学Prof. Steven Collinsから話題提供いただき、ディスカッションしたいと思います。（ほぼ全編英語でのサロンになる予定です） \n【第３回エンジニアズサロン】\n 日時：2018年9月4日（火）19:00-21:00\n PDH：1PDHを供給\n場所：会議室MIXER\n講師：Steven W. Collins\, Ph.D.\, P.E.（Associate Professor\, Mechanical Engineering\, University of Washington Bothell） \nテーマ：Engineering Leadership\n概要： \n会費：1\,000円（懇親会費込）\n定員：15名 \n申し込みは上部にあります。（締め切りは9/3） \nES実行メンバー　森山亮
URL:https://jspe.org/event/fy2018-3rd-engineers-salon-3/
CATEGORIES:サロン案内
ATTACH;FMTTYPE=image/jpeg:https://jspe.org/wp-content/uploads/2018/02/salon-icon.jpeg
END:VEVENT
BEGIN:VEVENT
DTSTART;TZID=Asia/Tokyo:20180904T190000
DTEND;TZID=Asia/Tokyo:20180904T210000
DTSTAMP:20260420T112150
CREATED:20180413T072137Z
LAST-MODIFIED:20180413T072137Z
UID:1745-1536087600-1536094800@jspe.org
SUMMARY:2018年度 第3回エンジニアズサロン/FY2018 3rd Engineer’s Salon
DESCRIPTION:2018年度第3回エンジニアズサロン（ES）開催のお知らせ \n今回は、「engineering leadership」をテーマに、ワシントン大学Prof. Steven Collinsから話題提供いただき、ディスカッションしたいと思います。（ほぼ全編英語でのサロンになる予定です） \n【第３回エンジニアズサロン】\n 日時：2018年9月4日（火）19:00-21:00\n PDH：1PDHを供給\n場所：会議室MIXER\n講師：Steven W. Collins\, Ph.D.\, P.E.（Associate Professor\, Mechanical Engineering\, University of Washington Bothell） \nテーマ：Engineering Leadership\n概要： \n会費：1\,000円（懇親会費込）\n定員：15名 \n申し込みは上部にあります。（締め切りは9/3） \nES実行メンバー　森山亮
URL:https://jspe.org/event/fy2018-3rd-engineers-salon/
CATEGORIES:サロン案内
ATTACH;FMTTYPE=image/jpeg:https://jspe.org/wp-content/uploads/2018/02/salon-icon.jpeg
END:VEVENT
BEGIN:VEVENT
DTSTART;TZID=Asia/Tokyo:20180904T190000
DTEND;TZID=Asia/Tokyo:20180904T210000
DTSTAMP:20260420T112150
CREATED:20180413T072137Z
LAST-MODIFIED:20180413T072137Z
UID:9073-1536087600-1536094800@jspe.org
SUMMARY:2018年度 第3回エンジニアズサロン/FY2018 3rd Engineer’s Salon
DESCRIPTION:2018年度第3回エンジニアズサロン（ES）開催のお知らせ \n今回は、「engineering leadership」をテーマに、ワシントン大学Prof. Steven Collinsから話題提供いただき、ディスカッションしたいと思います。（ほぼ全編英語でのサロンになる予定です） \n【第３回エンジニアズサロン】\n 日時：2018年9月4日（火）19:00-21:00\n PDH：1PDHを供給\n場所：会議室MIXER\n講師：Steven W. Collins\, Ph.D.\, P.E.（Associate Professor\, Mechanical Engineering\, University of Washington Bothell） \nテーマ：Engineering Leadership\n概要： \n会費：1\,000円（懇親会費込）\n定員：15名 \n申し込みは上部にあります。（締め切りは9/3） \nES実行メンバー　森山亮
URL:https://jspe.org/event/fy2018-3rd-engineers-salon-2/
CATEGORIES:サロン案内
ATTACH;FMTTYPE=image/jpeg:https://jspe.org/wp-content/uploads/2018/02/salon-icon.jpeg
END:VEVENT
END:VCALENDAR